BEGIN:VCALENDAR
VERSION:2.0
PRODID:-//Corte Constitucional del Ecuador - ECPv6.10.2//NONSGML v1.0//EN
CALSCALE:GREGORIAN
METHOD:PUBLISH
X-ORIGINAL-URL:https://www.corteconstitucional.gob.ec
X-WR-CALDESC:Eventos para Corte Constitucional del Ecuador
REFRESH-INTERVAL;VALUE=DURATION:PT1H
X-Robots-Tag:noindex
X-PUBLISHED-TTL:PT1H
BEGIN:VTIMEZONE
TZID:America/Bogota
BEGIN:STANDARD
TZOFFSETFROM:-0500
TZOFFSETTO:-0500
TZNAME:-05
DTSTART:20230101T000000
END:STANDARD
END:VTIMEZONE
BEGIN:VEVENT
DTSTART;TZID=America/Bogota:20230508T150000
DTEND;TZID=America/Bogota:20230508T170000
DTSTAMP:20260421T044140
CREATED:20230508T165626Z
LAST-MODIFIED:20230508T165626Z
UID:275040-1683558000-1683565200@www.corteconstitucional.gob.ec
SUMMARY:Segundo Tribunal de la Sala de Admisión
DESCRIPTION:Los jueces constitucionales Alí Lozada Prado y Richard Ortiz Ortiz; y\, la jueza constitucional Carmen Corral Ponce\, integrantes del Segundo Tribunal de la Sala de Admisión sesionarán a partir de las 15h00.
URL:https://www.corteconstitucional.gob.ec/event/segundo-tribunal-de-la-sala-de-admision-2/
CATEGORIES:Sesiones de Salas de Admisión, Selección y Revisión
END:VEVENT
BEGIN:VEVENT
DTSTART;TZID=America/Bogota:20230508T150000
DTEND;TZID=America/Bogota:20230508T170000
DTSTAMP:20260421T044140
CREATED:20230508T165626Z
LAST-MODIFIED:20230508T165726Z
UID:266070-1683558000-1683565200@www.corteconstitucional.gob.ec
SUMMARY:Segundo Tribunal de la Sala de Admisión
DESCRIPTION:Los jueces constitucionales Alí Lozada Prado y Richard Ortiz Ortiz; y\, la jueza constitucional Carmen Corral Ponce\, integrantes del Segundo Tribunal de la Sala de Admisión sesionarán a partir de las 15h00.
URL:https://www.corteconstitucional.gob.ec/event/segundo-tribunal-de-la-sala-de-admision/
CATEGORIES:Sesiones de Salas de Admisión, Selección y Revisión
END:VEVENT
END:VCALENDAR