BEGIN:VCALENDAR
VERSION:2.0
PRODID:-//Corte Constitucional del Ecuador - ECPv6.10.2//NONSGML v1.0//EN
CALSCALE:GREGORIAN
METHOD:PUBLISH
X-ORIGINAL-URL:https://www.corteconstitucional.gob.ec
X-WR-CALDESC:Eventos para Corte Constitucional del Ecuador
REFRESH-INTERVAL;VALUE=DURATION:PT1H
X-Robots-Tag:noindex
X-PUBLISHED-TTL:PT1H
BEGIN:VTIMEZONE
TZID:America/Bogota
BEGIN:STANDARD
TZOFFSETFROM:-0500
TZOFFSETTO:-0500
TZNAME:-05
DTSTART:20260101T000000
END:STANDARD
END:VTIMEZONE
BEGIN:VEVENT
DTSTART;TZID=America/Bogota:20260108T100000
DTEND;TZID=America/Bogota:20260108T170000
DTSTAMP:20260419T103306
CREATED:20260107T215416Z
LAST-MODIFIED:20260107T215416Z
UID:278679-1767866400-1767891600@www.corteconstitucional.gob.ec
SUMMARY:Sesión administrativa ordinaria 001-O-2026
DESCRIPTION:Las y los jueces que conforman el Pleno de la Corte Constitucional realizarán la Sesión administrativa ordinaria 001-O-2026\, el jueves 08 de enero del 2026\, a partir de las 10h00. \nConoce el orden del día AQUÍ
URL:https://www.corteconstitucional.gob.ec/event/sesion-administrativa-ordinaria-001-o-2026/
CATEGORIES:Sesiones del Pleno
END:VEVENT
BEGIN:VEVENT
DTSTART;TZID=America/Bogota:20260115T100000
DTEND;TZID=America/Bogota:20260115T103000
DTSTAMP:20260419T103306
CREATED:20260114T164322Z
LAST-MODIFIED:20260114T164322Z
UID:278698-1768471200-1768473000@www.corteconstitucional.gob.ec
SUMMARY:Sesión administrativa ordinaria 002-O-2026
DESCRIPTION:Las y los jueces constitucionales que conforman el Pleno de la Corte Constitucional realizarán la Sesión administrativa ordinaria 002-O-2026\, el 15 de enero\, a partir de las 10h00. \nConoce el orden del día aquí
URL:https://www.corteconstitucional.gob.ec/event/sesion-administrativa-ordinaria-002-o-2026/
CATEGORIES:Sesiones del Pleno
END:VEVENT
BEGIN:VEVENT
DTSTART;TZID=America/Bogota:20260115T103000
DTEND;TZID=America/Bogota:20260115T170000
DTSTAMP:20260419T103306
CREATED:20260114T162458Z
LAST-MODIFIED:20260114T164628Z
UID:278693-1768473000-1768496400@www.corteconstitucional.gob.ec
SUMMARY:Sesión jurisdiccional ordinaria 003-O-2026
DESCRIPTION:Las y los jueces constitucionales que conforman el Pleno de la Corte Constitucional realizarán la Sesión jurisdiccional ordinaria 003-O-2026\, el 15 de enero del 2026\, a partir de las 10h00. \nConoce el orden del día AQUÍ
URL:https://www.corteconstitucional.gob.ec/event/sesion-jurisdiccional-ordinaria-003-o-2026/
CATEGORIES:Sesiones del Pleno
END:VEVENT
BEGIN:VEVENT
DTSTART;TZID=America/Bogota:20260121T100000
DTEND;TZID=America/Bogota:20260121T170000
DTSTAMP:20260419T103306
CREATED:20260121T204344Z
LAST-MODIFIED:20260121T204344Z
UID:278973-1768989600-1769014800@www.corteconstitucional.gob.ec
SUMMARY:Primera Sala de Revisión
DESCRIPTION:La jueza constitucional Alejandra Cárdenas Reyes y los jueces constitucionales José Terán Suárez y Richard Ortiz Ortiz\, integrantes de la Primera Sala de Revisión\, sesionarán el 21 de enero del 2026\, a partir de las 10h00.
URL:https://www.corteconstitucional.gob.ec/event/primera-sala-de-revision-5/
CATEGORIES:Sesiones de Salas de Admisión, Selección y Revisión
END:VEVENT
BEGIN:VEVENT
DTSTART;TZID=America/Bogota:20260122T100000
DTEND;TZID=America/Bogota:20260122T170000
DTSTAMP:20260419T103306
CREATED:20260121T202330Z
LAST-MODIFIED:20260121T202330Z
UID:278967-1769076000-1769101200@www.corteconstitucional.gob.ec
SUMMARY:Sesión jurisdiccional ordinaria 004-O-2026
DESCRIPTION:Las y los jueces que conforman el Pleno de la Corte Constitucional realizarán la Sesión jurisdiccional ordinaria 004-O-2026\, el 22 de enero a partir de las 10h00. \nConoce el orden día AQUÍ
URL:https://www.corteconstitucional.gob.ec/event/sesion-jurisdiccional-ordinaria-004-o-2026/
CATEGORIES:Sesiones del Pleno
END:VEVENT
BEGIN:VEVENT
DTSTART;TZID=America/Bogota:20260123T133000
DTEND;TZID=America/Bogota:20260123T163000
DTSTAMP:20260419T103306
CREATED:20260123T182055Z
LAST-MODIFIED:20260123T182129Z
UID:278976-1769175000-1769185800@www.corteconstitucional.gob.ec
SUMMARY:Sesión jurisdiccional extraordinaria 001-E-2026
DESCRIPTION:Las y los jueces que conforman el Pleno de la Corte Constitucional realizarán la Sesión jurisdiccional extraordinaria 001-E-2026\, el 23 de enero del 2026\, a partir de las 13h30. \nConoce el orden del día AQUÍ
URL:https://www.corteconstitucional.gob.ec/event/sesion-jurisdiccional-extraordinaria-001-e-2026/
CATEGORIES:Sesiones del Pleno
END:VEVENT
BEGIN:VEVENT
DTSTART;TZID=America/Bogota:20260129T100000
DTEND;TZID=America/Bogota:20260129T170000
DTSTAMP:20260419T103306
CREATED:20260128T180932Z
LAST-MODIFIED:20260128T181031Z
UID:278982-1769680800-1769706000@www.corteconstitucional.gob.ec
SUMMARY:Sesión jurisdiccional ordinaria 005-O-2026
DESCRIPTION:Las y los jueces que conforman el Pleno de la Corte Constitucional realizarán la Sesión jurisdiccional ordinaria 005-O-2026\, el 29 de enero del 2026\, a partir de las 10h00. \nConoce el orden del día AQUÍ
URL:https://www.corteconstitucional.gob.ec/event/sesion-jurisdiccional-ordinaria-005-o-2026/
CATEGORIES:Sesiones del Pleno
END:VEVENT
BEGIN:VEVENT
DTSTART;TZID=America/Bogota:20260130T113000
DTEND;TZID=America/Bogota:20260130T163000
DTSTAMP:20260419T103306
CREATED:20260116T190947Z
LAST-MODIFIED:20260116T190947Z
UID:278727-1769772600-1769790600@www.corteconstitucional.gob.ec
SUMMARY:Audiencia reservada telemática Caso 422-24-EP
DESCRIPTION:El juez sustanciador Raúl Llasag Fernández presidirá la audiencia reservada telemática del Caso 422-24-EP. \nConoce más AQUÍ
URL:https://www.corteconstitucional.gob.ec/event/audiencia-reservada-telematica-caso-422-24-ep/
CATEGORIES:Audiencias Públicas
END:VEVENT
END:VCALENDAR