BEGIN:VCALENDAR
VERSION:2.0
PRODID:-//Corte Constitucional del Ecuador - ECPv6.10.2//NONSGML v1.0//EN
CALSCALE:GREGORIAN
METHOD:PUBLISH
X-WR-CALNAME:Corte Constitucional del Ecuador
X-ORIGINAL-URL:https://www.corteconstitucional.gob.ec
X-WR-CALDESC:Eventos para Corte Constitucional del Ecuador
REFRESH-INTERVAL;VALUE=DURATION:PT1H
X-Robots-Tag:noindex
X-PUBLISHED-TTL:PT1H
BEGIN:VTIMEZONE
TZID:America/Bogota
BEGIN:STANDARD
TZOFFSETFROM:-0500
TZOFFSETTO:-0500
TZNAME:-05
DTSTART:20240101T000000
END:STANDARD
END:VTIMEZONE
BEGIN:VEVENT
DTSTART;TZID=America/Bogota:20240705T103000
DTEND;TZID=America/Bogota:20240705T133000
DTSTAMP:20260420T102654
CREATED:20240627T180123Z
LAST-MODIFIED:20240627T180124Z
UID:271333-1720175400-1720186200@www.corteconstitucional.gob.ec
SUMMARY:Audiencia Pública Caso 95-20-IN
DESCRIPTION:La jueza sustanciadora Alejandra Cárdenas Reyes convoca a las partes procesales y a los amicus curiae a la audiencia pública telemática del Caso 95-20-IN. \nConoce más AQUÍ https://tinyurl.com/2qkd2leo
URL:https://www.corteconstitucional.gob.ec/event/audiencia-publica-caso-95-20-in/
CATEGORIES:Audiencias Públicas
END:VEVENT
BEGIN:VEVENT
DTSTART;TZID=America/Bogota:20240705T103000
DTEND;TZID=America/Bogota:20240705T133000
DTSTAMP:20260420T102654
CREATED:20240627T180123Z
LAST-MODIFIED:20240627T180123Z
UID:275225-1720175400-1720186200@www.corteconstitucional.gob.ec
SUMMARY:Audiencia Pública Caso 95-20-IN
DESCRIPTION:La jueza sustanciadora Alejandra Cárdenas Reyes convoca a las partes procesales y a los amicus curiae a la audiencia pública telemática del Caso 95-20-IN. \nConoce más AQUÍ https://tinyurl.com/2qkd2leo
URL:https://www.corteconstitucional.gob.ec/event/audiencia-publica-caso-95-20-in-2/
CATEGORIES:Audiencias Públicas
END:VEVENT
BEGIN:VEVENT
DTSTART;TZID=America/Bogota:20240709T103000
DTEND;TZID=America/Bogota:20240709T143000
DTSTAMP:20260420T102654
CREATED:20240708T181434Z
LAST-MODIFIED:20240708T181434Z
UID:271418-1720521000-1720535400@www.corteconstitucional.gob.ec
SUMMARY:Audiencia Reservada Caso 7-24-EE
DESCRIPTION:El juez sustanciador Richard Ortiz Ortiz presidirá la Audiencia Reservada Caso 7-24-EE. \nConoce más en la convocatoria AQUÍ
URL:https://www.corteconstitucional.gob.ec/event/audiencia-reservada-caso-7-24-ee/
CATEGORIES:Audiencias Públicas
END:VEVENT
BEGIN:VEVENT
DTSTART;TZID=America/Bogota:20240709T103000
DTEND;TZID=America/Bogota:20240709T143000
DTSTAMP:20260420T102654
CREATED:20240708T181434Z
LAST-MODIFIED:20240708T181434Z
UID:275226-1720521000-1720535400@www.corteconstitucional.gob.ec
SUMMARY:Audiencia Reservada Caso 7-24-EE
DESCRIPTION:El juez sustanciador Richard Ortiz Ortiz presidirá la Audiencia Reservada Caso 7-24-EE. \nConoce más en la convocatoria AQUÍ
URL:https://www.corteconstitucional.gob.ec/event/audiencia-reservada-caso-7-24-ee-2/
CATEGORIES:Audiencias Públicas
END:VEVENT
BEGIN:VEVENT
DTSTART;TZID=America/Bogota:20240718T100000
DTEND;TZID=America/Bogota:20240718T103000
DTSTAMP:20260420T102654
CREATED:20240718T135025Z
LAST-MODIFIED:20240718T135025Z
UID:271482-1721296800-1721298600@www.corteconstitucional.gob.ec
SUMMARY:Sesión administrativa ordinaria 035-O-2024
DESCRIPTION:Las juezas y jueces que conforman el Pleno de la Corte Constitucional realizarán la Sesión administrativa ordinaria 035-O-2024 el jueves 18 de julio a partir de las 10h00. \nConoce el orden del día AQUÍ
URL:https://www.corteconstitucional.gob.ec/event/sesion-administrativa-ordinaria-035-o-2024/
CATEGORIES:Sesiones del Pleno
END:VEVENT
BEGIN:VEVENT
DTSTART;TZID=America/Bogota:20240718T100000
DTEND;TZID=America/Bogota:20240718T103000
DTSTAMP:20260420T102654
CREATED:20240718T135025Z
LAST-MODIFIED:20240718T135025Z
UID:275228-1721296800-1721298600@www.corteconstitucional.gob.ec
SUMMARY:Sesión administrativa ordinaria 035-O-2024
DESCRIPTION:Las juezas y jueces que conforman el Pleno de la Corte Constitucional realizarán la Sesión administrativa ordinaria 035-O-2024 el jueves 18 de julio a partir de las 10h00. \nConoce el orden del día AQUÍ
URL:https://www.corteconstitucional.gob.ec/event/sesion-administrativa-ordinaria-035-o-2024-2/
CATEGORIES:Sesiones del Pleno
END:VEVENT
BEGIN:VEVENT
DTSTART;TZID=America/Bogota:20240718T113000
DTEND;TZID=America/Bogota:20240718T170000
DTSTAMP:20260420T102654
CREATED:20240718T134848Z
LAST-MODIFIED:20240718T134848Z
UID:271479-1721302200-1721322000@www.corteconstitucional.gob.ec
SUMMARY:Sesión jurisdiccional ordinaria 034-O-2024 
DESCRIPTION:Las juezas y jueces que conforman el Pleno de la Corte Constitucional realizarán la Sesión jurisdiccional ordinaria 034-O-2024 el jueves 18 de julio a partir de las 11h30. \nConoce el orden del día AQUÍ
URL:https://www.corteconstitucional.gob.ec/event/sesion-jurisdiccional-ordinaria-034-o-2024/
CATEGORIES:Sesiones del Pleno
END:VEVENT
BEGIN:VEVENT
DTSTART;TZID=America/Bogota:20240718T113000
DTEND;TZID=America/Bogota:20240718T170000
DTSTAMP:20260420T102654
CREATED:20240718T134848Z
LAST-MODIFIED:20240718T134848Z
UID:275227-1721302200-1721322000@www.corteconstitucional.gob.ec
SUMMARY:Sesión jurisdiccional ordinaria 034-O-2024 
DESCRIPTION:Las juezas y jueces que conforman el Pleno de la Corte Constitucional realizarán la Sesión jurisdiccional ordinaria 034-O-2024 el jueves 18 de julio a partir de las 11h30. \nConoce el orden del día AQUÍ
URL:https://www.corteconstitucional.gob.ec/event/sesion-jurisdiccional-ordinaria-034-o-2024-2/
CATEGORIES:Sesiones del Pleno
END:VEVENT
BEGIN:VEVENT
DTSTART;TZID=America/Bogota:20240729T093000
DTEND;TZID=America/Bogota:20240729T133000
DTSTAMP:20260420T102654
CREATED:20240723T133111Z
LAST-MODIFIED:20240723T133111Z
UID:271551-1722245400-1722259800@www.corteconstitucional.gob.ec
SUMMARY:Audiencia Pública Caso 2863-19-EP
DESCRIPTION:#AudienciaPúblicaCC | La jueza sustanciadora Teresa Nuques Martínez convoca a las partes procesales a la audiencia pública telemática del Caso 2863-19-EP. \nConoce más AQUÍ
URL:https://www.corteconstitucional.gob.ec/event/audiencia-publica-caso-2863-19-ep/
CATEGORIES:Audiencias Públicas
END:VEVENT
BEGIN:VEVENT
DTSTART;TZID=America/Bogota:20240729T093000
DTEND;TZID=America/Bogota:20240729T133000
DTSTAMP:20260420T102654
CREATED:20240723T133111Z
LAST-MODIFIED:20240723T133111Z
UID:275229-1722245400-1722259800@www.corteconstitucional.gob.ec
SUMMARY:Audiencia Pública Caso 2863-19-EP
DESCRIPTION:#AudienciaPúblicaCC | La jueza sustanciadora Teresa Nuques Martínez convoca a las partes procesales a la audiencia pública telemática del Caso 2863-19-EP. \nConoce más AQUÍ
URL:https://www.corteconstitucional.gob.ec/event/audiencia-publica-caso-2863-19-ep-2/
CATEGORIES:Audiencias Públicas
END:VEVENT
BEGIN:VEVENT
DTSTART;TZID=America/Bogota:20240730T090000
DTEND;TZID=America/Bogota:20240730T170000
DTSTAMP:20260420T102654
CREATED:20240729T210317Z
LAST-MODIFIED:20240729T210317Z
UID:271586-1722330000-1722358800@www.corteconstitucional.gob.ec
SUMMARY:Sesión jurisdiccional extraordinaria 013-E-2024
DESCRIPTION:Las juezas y jueces que conforman el Pleno de la Corte Constitucional realizarán la Sesión jurisdiccional extraordinaria 013-E-2024 mañana martes 30 de julio\, a partir de las 09h00. \nConoce el orden del día AQUÍ
URL:https://www.corteconstitucional.gob.ec/event/sesion-jurisdiccional-extraordinaria-013-e-2024/
CATEGORIES:Sesiones del Pleno
END:VEVENT
BEGIN:VEVENT
DTSTART;TZID=America/Bogota:20240730T090000
DTEND;TZID=America/Bogota:20240730T170000
DTSTAMP:20260420T102654
CREATED:20240729T210317Z
LAST-MODIFIED:20240729T210317Z
UID:275230-1722330000-1722358800@www.corteconstitucional.gob.ec
SUMMARY:Sesión jurisdiccional extraordinaria 013-E-2024
DESCRIPTION:Las juezas y jueces que conforman el Pleno de la Corte Constitucional realizarán la Sesión jurisdiccional extraordinaria 013-E-2024 mañana martes 30 de julio\, a partir de las 09h00. \nConoce el orden del día AQUÍ
URL:https://www.corteconstitucional.gob.ec/event/sesion-jurisdiccional-extraordinaria-013-e-2024-2/
CATEGORIES:Sesiones del Pleno
END:VEVENT
BEGIN:VEVENT
DTSTART;TZID=America/Bogota:20240731T113000
DTEND;TZID=America/Bogota:20240731T170000
DTSTAMP:20260420T102654
CREATED:20240731T205952Z
LAST-MODIFIED:20240731T205952Z
UID:275231-1722425400-1722445200@www.corteconstitucional.gob.ec
SUMMARY:Sesión Jurisdiccional No. 036-O-2024.
DESCRIPTION:Las juezas y jueces que conforman el Pleno de la Corte Constitucional realizarán la Sesión Jurisdiccional No. 036-O-2024. \nConoce el orden del día AQUÍ
URL:https://www.corteconstitucional.gob.ec/event/sesion-jurisdiccional-no-036-o-2024-2/
CATEGORIES:Sesiones del Pleno
END:VEVENT
BEGIN:VEVENT
DTSTART;TZID=America/Bogota:20240731T113000
DTEND;TZID=America/Bogota:20240731T170000
DTSTAMP:20260420T102654
CREATED:20240731T205952Z
LAST-MODIFIED:20240731T205952Z
UID:271605-1722425400-1722445200@www.corteconstitucional.gob.ec
SUMMARY:Sesión Jurisdiccional No. 036-O-2024.
DESCRIPTION:Las juezas y jueces que conforman el Pleno de la Corte Constitucional realizarán la Sesión Jurisdiccional No. 036-O-2024. \nConoce el orden del día AQUÍ
URL:https://www.corteconstitucional.gob.ec/event/sesion-jurisdiccional-no-036-o-2024/
CATEGORIES:Sesiones del Pleno
END:VEVENT
END:VCALENDAR