BEGIN:VCALENDAR
VERSION:2.0
PRODID:-//Corte Constitucional del Ecuador - ECPv6.10.2//NONSGML v1.0//EN
CALSCALE:GREGORIAN
METHOD:PUBLISH
X-WR-CALNAME:Corte Constitucional del Ecuador
X-ORIGINAL-URL:https://www.corteconstitucional.gob.ec
X-WR-CALDESC:Eventos para Corte Constitucional del Ecuador
REFRESH-INTERVAL;VALUE=DURATION:PT1H
X-Robots-Tag:noindex
X-PUBLISHED-TTL:PT1H
BEGIN:VTIMEZONE
TZID:America/Bogota
BEGIN:STANDARD
TZOFFSETFROM:-0500
TZOFFSETTO:-0500
TZNAME:-05
DTSTART:20240101T000000
END:STANDARD
END:VTIMEZONE
BEGIN:VEVENT
DTSTART;TZID=America/Bogota:20240402T103000
DTEND;TZID=America/Bogota:20240402T130000
DTSTAMP:20260420T142217
CREATED:20240401T142251Z
LAST-MODIFIED:20240401T142251Z
UID:270277-1712053800-1712062800@www.corteconstitucional.gob.ec
SUMMARY:Audiencia de carácter reservado del Caso 212-20-EP
DESCRIPTION:La jueza sustanciadora Daniela Salazar Marín presidirá la audiencia de carácter reservado del Caso 212-20-EP. \nAccede a más de información AQUÍ
URL:https://www.corteconstitucional.gob.ec/event/audiencia-de-caracter-reservado-del-caso-212-20-ep/
CATEGORIES:Audiencias Públicas
END:VEVENT
BEGIN:VEVENT
DTSTART;TZID=America/Bogota:20240402T103000
DTEND;TZID=America/Bogota:20240402T130000
DTSTAMP:20260420T142217
CREATED:20240401T142251Z
LAST-MODIFIED:20240401T142251Z
UID:275188-1712053800-1712062800@www.corteconstitucional.gob.ec
SUMMARY:Audiencia de carácter reservado del Caso 212-20-EP
DESCRIPTION:La jueza sustanciadora Daniela Salazar Marín presidirá la audiencia de carácter reservado del Caso 212-20-EP. \nAccede a más de información AQUÍ
URL:https://www.corteconstitucional.gob.ec/event/audiencia-de-caracter-reservado-del-caso-212-20-ep-2/
CATEGORIES:Audiencias Públicas
END:VEVENT
BEGIN:VEVENT
DTSTART;TZID=America/Bogota:20240404T100000
DTEND;TZID=America/Bogota:20240404T163000
DTSTAMP:20260420T142217
CREATED:20240402T210740Z
LAST-MODIFIED:20240402T210740Z
UID:270293-1712224800-1712248200@www.corteconstitucional.gob.ec
SUMMARY:Sesión administrativa ordinaria 016-O-2024
DESCRIPTION:Las juezas y jueces que conforman el Pleno de la Corte Constitucional realizarán la sesión administrativa Nro. 016-O-2024\, el 4 de abril del 2024\, a partir de las 10h00. \nConoce más AQUÍ
URL:https://www.corteconstitucional.gob.ec/event/sesion-administrativa-ordinaria-016-o-2024/
CATEGORIES:Sesiones del Pleno
END:VEVENT
BEGIN:VEVENT
DTSTART;TZID=America/Bogota:20240404T100000
DTEND;TZID=America/Bogota:20240404T163000
DTSTAMP:20260420T142217
CREATED:20240402T210740Z
LAST-MODIFIED:20240402T210740Z
UID:275189-1712224800-1712248200@www.corteconstitucional.gob.ec
SUMMARY:Sesión administrativa ordinaria 016-O-2024
DESCRIPTION:Las juezas y jueces que conforman el Pleno de la Corte Constitucional realizarán la sesión administrativa Nro. 016-O-2024\, el 4 de abril del 2024\, a partir de las 10h00. \nConoce más AQUÍ
URL:https://www.corteconstitucional.gob.ec/event/sesion-administrativa-ordinaria-016-o-2024-2/
CATEGORIES:Sesiones del Pleno
END:VEVENT
BEGIN:VEVENT
DTSTART;TZID=America/Bogota:20240404T113000
DTEND;TZID=America/Bogota:20240404T163000
DTSTAMP:20260420T142217
CREATED:20240402T210950Z
LAST-MODIFIED:20240403T013422Z
UID:270295-1712230200-1712248200@www.corteconstitucional.gob.ec
SUMMARY:Sesión jurisdiccional ordinaria 015-O-2024
DESCRIPTION:Las juezas y jueces que conforman el Pleno de la Corte Constitucional realizarán la Sesión jurisdiccional ordinaria 015-O-2024\, el jueves 04 de marzo\, a partir de las 11h30. \nConoce el orden del día AQUÍ
URL:https://www.corteconstitucional.gob.ec/event/sesion-jurisdiccional-ordinaria-015-o-2024/
CATEGORIES:Sesiones del Pleno
END:VEVENT
BEGIN:VEVENT
DTSTART;TZID=America/Bogota:20240404T113000
DTEND;TZID=America/Bogota:20240404T163000
DTSTAMP:20260420T142217
CREATED:20240402T210950Z
LAST-MODIFIED:20240402T210950Z
UID:275190-1712230200-1712248200@www.corteconstitucional.gob.ec
SUMMARY:Sesión jurisdiccional ordinaria 015-O-2024
DESCRIPTION:Las juezas y jueces que conforman el Pleno de la Corte Constitucional realizarán la Sesión jurisdiccional ordinaria 015-O-2024\, el jueves 04 de marzo\, a partir de las 11h30. \nConoce el orden del día AQUÍ
URL:https://www.corteconstitucional.gob.ec/event/sesion-jurisdiccional-ordinaria-015-o-2024-2/
CATEGORIES:Sesiones del Pleno
END:VEVENT
BEGIN:VEVENT
DTSTART;TZID=America/Bogota:20240409T103000
DTEND;TZID=America/Bogota:20240409T163000
DTSTAMP:20260420T142217
CREATED:20240401T142053Z
LAST-MODIFIED:20240401T142053Z
UID:270275-1712658600-1712680200@www.corteconstitucional.gob.ec
SUMMARY:Audiencia Pública Caso Nro. 1072-21-JP.
DESCRIPTION:La jueza sustanciadora Daniela Salazar Marín convoca a las partes procesales a la audiencia pública del Caso Nro. 1072-21-JP. #AudienciaPúblicaCC |\nConoce más AQUÍ
URL:https://www.corteconstitucional.gob.ec/event/audiencia-publica-caso-nro-1072-21-jp/
CATEGORIES:Audiencias Públicas
END:VEVENT
BEGIN:VEVENT
DTSTART;TZID=America/Bogota:20240409T103000
DTEND;TZID=America/Bogota:20240409T163000
DTSTAMP:20260420T142217
CREATED:20240401T142053Z
LAST-MODIFIED:20240401T142053Z
UID:275187-1712658600-1712680200@www.corteconstitucional.gob.ec
SUMMARY:Audiencia Pública Caso Nro. 1072-21-JP.
DESCRIPTION:La jueza sustanciadora Daniela Salazar Marín convoca a las partes procesales a la audiencia pública del Caso Nro. 1072-21-JP. #AudienciaPúblicaCC |\nConoce más AQUÍ
URL:https://www.corteconstitucional.gob.ec/event/audiencia-publica-caso-nro-1072-21-jp-2/
CATEGORIES:Audiencias Públicas
END:VEVENT
BEGIN:VEVENT
DTSTART;TZID=America/Bogota:20240411T113000
DTEND;TZID=America/Bogota:20240411T170000
DTSTAMP:20260420T142217
CREATED:20240410T210723Z
LAST-MODIFIED:20240410T210723Z
UID:275194-1712835000-1712854800@www.corteconstitucional.gob.ec
SUMMARY:Sesión jurisdiccional ordinaria 017-O-2024
DESCRIPTION:Las juezas y jueces constitucionales son convocados a la Sesión jurisdiccional ordinaria 017-O-2024\, este jueves 11 de abril\, a partir de las 11h30. \nAccede al orden del día AQUÍ
URL:https://www.corteconstitucional.gob.ec/event/sesion-jurisdiccional-ordinaria-017-o-2024-2/
CATEGORIES:Sesiones del Pleno
END:VEVENT
BEGIN:VEVENT
DTSTART;TZID=America/Bogota:20240411T113000
DTEND;TZID=America/Bogota:20240411T170000
DTSTAMP:20260420T142217
CREATED:20240410T210723Z
LAST-MODIFIED:20240410T210723Z
UID:270503-1712835000-1712854800@www.corteconstitucional.gob.ec
SUMMARY:Sesión jurisdiccional ordinaria 017-O-2024
DESCRIPTION:Las juezas y jueces constitucionales son convocados a la Sesión jurisdiccional ordinaria 017-O-2024\, este jueves 11 de abril\, a partir de las 11h30. \nAccede al orden del día AQUÍ
URL:https://www.corteconstitucional.gob.ec/event/sesion-jurisdiccional-ordinaria-017-o-2024/
CATEGORIES:Sesiones del Pleno
END:VEVENT
BEGIN:VEVENT
DTSTART;TZID=America/Bogota:20240412T100000
DTEND;TZID=America/Bogota:20240412T130000
DTSTAMP:20260420T142217
CREATED:20240412T143923Z
LAST-MODIFIED:20240412T143923Z
UID:270615-1712916000-1712926800@www.corteconstitucional.gob.ec
SUMMARY:Audiencia Pública telemática del Caso Nro. 50-21-AN
DESCRIPTION:La jueza sustanciadora Karla Andrade Quevedo presidirá la Audiencia Pública telemática del Caso Nro. 50-21-AN.  \nConoce más AQUÍ https://tinyurl.com/2d7v8nwm
URL:https://www.corteconstitucional.gob.ec/event/audiencia-publica-telematica-del-caso-nro-50-21-an/
CATEGORIES:Audiencias Públicas
END:VEVENT
BEGIN:VEVENT
DTSTART;TZID=America/Bogota:20240412T100000
DTEND;TZID=America/Bogota:20240412T130000
DTSTAMP:20260420T142217
CREATED:20240412T143923Z
LAST-MODIFIED:20240412T143923Z
UID:275195-1712916000-1712926800@www.corteconstitucional.gob.ec
SUMMARY:Audiencia Pública telemática del Caso Nro. 50-21-AN
DESCRIPTION:La jueza sustanciadora Karla Andrade Quevedo presidirá la Audiencia Pública telemática del Caso Nro. 50-21-AN.  \nConoce más AQUÍ https://tinyurl.com/2d7v8nwm
URL:https://www.corteconstitucional.gob.ec/event/audiencia-publica-telematica-del-caso-nro-50-21-an-2/
CATEGORIES:Audiencias Públicas
END:VEVENT
BEGIN:VEVENT
DTSTART;TZID=America/Bogota:20240416T093000
DTEND;TZID=America/Bogota:20240416T163000
DTSTAMP:20260420T142217
CREATED:20240416T142025Z
LAST-MODIFIED:20240416T142025Z
UID:275196-1713259800-1713285000@www.corteconstitucional.gob.ec
SUMMARY:Sesión jurisdiccional extraordinaria 008-E-2024.
DESCRIPTION:Las juezas y jueces constitucionales que conforman el Pleno de la Corte Constitucional sesionarán hoy\, a partir de las 09h30\, en la Sesión jurisdiccional extraordinaria 008-E-2024. \nConoce más AQUÍ \n#CompromisoConstitucional
URL:https://www.corteconstitucional.gob.ec/event/sesion-jurisdiccional-extraordinaria-008-e-2024-2/
CATEGORIES:Sesiones del Pleno
END:VEVENT
BEGIN:VEVENT
DTSTART;TZID=America/Bogota:20240416T093000
DTEND;TZID=America/Bogota:20240416T163000
DTSTAMP:20260420T142217
CREATED:20240416T142025Z
LAST-MODIFIED:20240416T142025Z
UID:270626-1713259800-1713285000@www.corteconstitucional.gob.ec
SUMMARY:Sesión jurisdiccional extraordinaria 008-E-2024.
DESCRIPTION:Las juezas y jueces constitucionales que conforman el Pleno de la Corte Constitucional sesionarán hoy\, a partir de las 09h30\, en la Sesión jurisdiccional extraordinaria 008-E-2024. \nConoce más AQUÍ \n#CompromisoConstitucional
URL:https://www.corteconstitucional.gob.ec/event/sesion-jurisdiccional-extraordinaria-008-e-2024/
CATEGORIES:Sesiones del Pleno
END:VEVENT
BEGIN:VEVENT
DTSTART;TZID=America/Bogota:20240418T103000
DTEND;TZID=America/Bogota:20240418T113000
DTSTAMP:20260420T142217
CREATED:20240418T130917Z
LAST-MODIFIED:20240418T130917Z
UID:270635-1713436200-1713439800@www.corteconstitucional.gob.ec
SUMMARY:Sesión administrativa ordinaria 019-O-2024
DESCRIPTION:Las juezas y jueces que conforman el Pleno de la Corte Constitucional realizarán la Sesión Ordinaria Administrativa Nro. 019-O-2024. \nAccede a la convocatoria AQUÍ
URL:https://www.corteconstitucional.gob.ec/event/sesion-administrativa-ordinaria-019-o-2024/
CATEGORIES:Sesiones del Pleno
END:VEVENT
BEGIN:VEVENT
DTSTART;TZID=America/Bogota:20240418T103000
DTEND;TZID=America/Bogota:20240418T113000
DTSTAMP:20260420T142217
CREATED:20240418T130917Z
LAST-MODIFIED:20240418T130917Z
UID:275197-1713436200-1713439800@www.corteconstitucional.gob.ec
SUMMARY:Sesión administrativa ordinaria 019-O-2024
DESCRIPTION:Las juezas y jueces que conforman el Pleno de la Corte Constitucional realizarán la Sesión Ordinaria Administrativa Nro. 019-O-2024. \nAccede a la convocatoria AQUÍ
URL:https://www.corteconstitucional.gob.ec/event/sesion-administrativa-ordinaria-019-o-2024-2/
CATEGORIES:Sesiones del Pleno
END:VEVENT
BEGIN:VEVENT
DTSTART;TZID=America/Bogota:20240418T113000
DTEND;TZID=America/Bogota:20240418T153000
DTSTAMP:20260420T142217
CREATED:20240418T131027Z
LAST-MODIFIED:20240429T145917Z
UID:270641-1713439800-1713454200@www.corteconstitucional.gob.ec
SUMMARY:Sesión jurisdiccional ordinaria 018-O-2024
DESCRIPTION:Las juezas y jueces que conforman el Pleno de la Corte Constitucional realizarán la Sesión jurisdiccional ordinaria 018-O-2024 \nAccede a la convocatoria AQUÍ
URL:https://www.corteconstitucional.gob.ec/event/sesion-jurisdiccional-ordinaria-018-o-2024/
CATEGORIES:Sesiones del Pleno
END:VEVENT
BEGIN:VEVENT
DTSTART;TZID=America/Bogota:20240418T113000
DTEND;TZID=America/Bogota:20240418T153000
DTSTAMP:20260420T142217
CREATED:20240418T131027Z
LAST-MODIFIED:20240418T131027Z
UID:275198-1713439800-1713454200@www.corteconstitucional.gob.ec
SUMMARY:Sesión jurisdiccional ordinaria 018-O-2024
DESCRIPTION:Las juezas y jueces que conforman el Pleno de la Corte Constitucional realizarán la Sesión jurisdiccional ordinaria 018-O-2024 \nAccede a la convocatoria AQUÍ
URL:https://www.corteconstitucional.gob.ec/event/sesion-jurisdiccional-ordinaria-018-o-2024-2/
CATEGORIES:Sesiones del Pleno
END:VEVENT
BEGIN:VEVENT
DTSTART;TZID=America/Bogota:20240424T080000
DTEND;TZID=America/Bogota:20240424T170000
DTSTAMP:20260420T142217
CREATED:20240501T164755Z
LAST-MODIFIED:20240501T164805Z
UID:270731-1713945600-1713978000@www.corteconstitucional.gob.ec
SUMMARY:Audiencia Pública telemática del Caso Nro. 2219-19-EP.
DESCRIPTION:La jueza sustanciadora Karla Andrade Quevedo presidirá la audiencia pública telemática del Caso Nro. 2219-19-EP.
URL:https://www.corteconstitucional.gob.ec/event/audiencia-publica-telematica-del-caso-nro-2219-19-ep/
CATEGORIES:Audiencias Públicas
END:VEVENT
BEGIN:VEVENT
DTSTART;TZID=America/Bogota:20240424T080000
DTEND;TZID=America/Bogota:20240424T170000
DTSTAMP:20260420T142217
CREATED:20240501T164755Z
LAST-MODIFIED:20240501T164755Z
UID:275200-1713945600-1713978000@www.corteconstitucional.gob.ec
SUMMARY:Audiencia Pública telemática del Caso Nro. 2219-19-EP.
DESCRIPTION:La jueza sustanciadora Karla Andrade Quevedo presidirá la audiencia pública telemática del Caso Nro. 2219-19-EP.
URL:https://www.corteconstitucional.gob.ec/event/audiencia-publica-telematica-del-caso-nro-2219-19-ep-2/
CATEGORIES:Audiencias Públicas
END:VEVENT
BEGIN:VEVENT
DTSTART;TZID=America/Bogota:20240425T113000
DTEND;TZID=America/Bogota:20240425T163000
DTSTAMP:20260420T142217
CREATED:20240424T220646Z
LAST-MODIFIED:20240424T220646Z
UID:270657-1714044600-1714062600@www.corteconstitucional.gob.ec
SUMMARY:Sesión jurisdiccional ordinaria 020-O-2024
DESCRIPTION:Las juezas y jueces que conforman el Pleno de la Corte Constitucional realizarán la Sesión Ordinaria del Pleno Nro. 020-O-2024\, el jueves 25 de abril\, a partir de las 11h30. \nConoce la convocatoria AQUÍ
URL:https://www.corteconstitucional.gob.ec/event/sesion-jurisdiccional-ordinaria-020-o-2024/
CATEGORIES:Sesiones del Pleno
END:VEVENT
BEGIN:VEVENT
DTSTART;TZID=America/Bogota:20240425T113000
DTEND;TZID=America/Bogota:20240425T163000
DTSTAMP:20260420T142217
CREATED:20240424T220646Z
LAST-MODIFIED:20240424T220646Z
UID:275199-1714044600-1714062600@www.corteconstitucional.gob.ec
SUMMARY:Sesión jurisdiccional ordinaria 020-O-2024
DESCRIPTION:Las juezas y jueces que conforman el Pleno de la Corte Constitucional realizarán la Sesión Ordinaria del Pleno Nro. 020-O-2024\, el jueves 25 de abril\, a partir de las 11h30. \nConoce la convocatoria AQUÍ
URL:https://www.corteconstitucional.gob.ec/event/sesion-jurisdiccional-ordinaria-020-o-2024-2/
CATEGORIES:Sesiones del Pleno
END:VEVENT
BEGIN:VEVENT
DTSTART;TZID=America/Bogota:20240426T093000
DTEND;TZID=America/Bogota:20240426T130000
DTSTAMP:20260420T142217
CREATED:20240409T190930Z
LAST-MODIFIED:20240409T190930Z
UID:270426-1714123800-1714136400@www.corteconstitucional.gob.ec
SUMMARY:Audiencia pública telemática del Caso Nro. 45-20-AN
DESCRIPTION:#AudienciaPúblicaCC | La jueza sustanciadora Alejandra Cárdenas Reyes convoca a las partes procesales y a los amicus curiae a la audiencia pública telemática del Caso Nro. 45-20-AN.\n\n\n \n\n\nConoce más en la convocatoria AQUÍ⤵️\n\n\nhttps://tinyurl.com/266dfsdn
URL:https://www.corteconstitucional.gob.ec/event/audiencia-publica-telematica-del-caso-nro-45-20-an/
CATEGORIES:Audiencias Públicas
END:VEVENT
BEGIN:VEVENT
DTSTART;TZID=America/Bogota:20240426T093000
DTEND;TZID=America/Bogota:20240426T130000
DTSTAMP:20260420T142217
CREATED:20240409T190930Z
LAST-MODIFIED:20240409T190930Z
UID:275193-1714123800-1714136400@www.corteconstitucional.gob.ec
SUMMARY:Audiencia pública telemática del Caso Nro. 45-20-AN
DESCRIPTION:#AudienciaPúblicaCC | La jueza sustanciadora Alejandra Cárdenas Reyes convoca a las partes procesales y a los amicus curiae a la audiencia pública telemática del Caso Nro. 45-20-AN.\n\n\n \n\n\nConoce más en la convocatoria AQUÍ⤵️\n\n\nhttps://tinyurl.com/266dfsdn
URL:https://www.corteconstitucional.gob.ec/event/audiencia-publica-telematica-del-caso-nro-45-20-an-2/
CATEGORIES:Audiencias Públicas
END:VEVENT
BEGIN:VEVENT
DTSTART;TZID=America/Bogota:20240426T140000
DTEND;TZID=America/Bogota:20240426T153000
DTSTAMP:20260420T142217
CREATED:20240409T182619Z
LAST-MODIFIED:20240501T162230Z
UID:270424-1714140000-1714145400@www.corteconstitucional.gob.ec
SUMMARY:Audiencia pública telemática del Caso Nro. 593-20-EP
DESCRIPTION:#AudienciaPúblicaCC | La jueza sustanciadora Alejandra Cárdenas Reyes convoca a las partes procesales y amicus curiae a la audiencia pública telemática del Caso Nro. 593-20-EP\n\n\n \n\n\nConoce más en la convocatoria AQUÍ⤵️\n\n\n \n\n\nhttps://tinyurl.com/2ahyswuz
URL:https://www.corteconstitucional.gob.ec/event/audiencia-publica-telematica-del-caso-nro-593-20-ep/
CATEGORIES:Audiencias Públicas
END:VEVENT
BEGIN:VEVENT
DTSTART;TZID=America/Bogota:20240426T140000
DTEND;TZID=America/Bogota:20240426T153000
DTSTAMP:20260420T142217
CREATED:20240409T182619Z
LAST-MODIFIED:20240409T182619Z
UID:275192-1714140000-1714145400@www.corteconstitucional.gob.ec
SUMMARY:Audiencia pública telemática del Caso Nro. 593-20-EP
DESCRIPTION:#AudienciaPúblicaCC | La jueza sustanciadora Alejandra Cárdenas Reyes convoca a las partes procesales y amicus curiae a la audiencia pública telemática del Caso Nro. 593-20-EP\n\n\n \n\n\nConoce más en la convocatoria AQUÍ⤵️\n\n\n \n\n\nhttps://tinyurl.com/2ahyswuz
URL:https://www.corteconstitucional.gob.ec/event/audiencia-publica-telematica-del-caso-nro-593-20-ep-2/
CATEGORIES:Audiencias Públicas
END:VEVENT
END:VCALENDAR