BEGIN:VCALENDAR
VERSION:2.0
PRODID:-//Corte Constitucional del Ecuador - ECPv6.10.2//NONSGML v1.0//EN
CALSCALE:GREGORIAN
METHOD:PUBLISH
X-ORIGINAL-URL:https://www.corteconstitucional.gob.ec
X-WR-CALDESC:Eventos para Corte Constitucional del Ecuador
REFRESH-INTERVAL;VALUE=DURATION:PT1H
X-Robots-Tag:noindex
X-PUBLISHED-TTL:PT1H
BEGIN:VTIMEZONE
TZID:America/Bogota
BEGIN:STANDARD
TZOFFSETFROM:-0500
TZOFFSETTO:-0500
TZNAME:-05
DTSTART:20230101T000000
END:STANDARD
END:VTIMEZONE
BEGIN:VEVENT
DTSTART;TZID=America/Bogota:20230906T113000
DTEND;TZID=America/Bogota:20230906T150000
DTSTAMP:20260420T224251
CREATED:20230904T221658Z
LAST-MODIFIED:20230904T221658Z
UID:275106-1693999800-1694012400@www.corteconstitucional.gob.ec
SUMMARY:Sesión jurisdiccional ordinaria Nro. 031-O-2023
DESCRIPTION:Las juezas y jueces que conforman el Pleno de la Corte Constitucional del Ecuador realizarán la Sesión jurisdiccional ordinaria Nro. 031-O-2023\, el miércoles 06 de septiembre\, a partir de las 11h30. \nConoce el orden del día AQUÍ
URL:https://www.corteconstitucional.gob.ec/event/sesion-jurisdiccional-ordinaria-nro-031-o-2023-2/
CATEGORIES:Sesiones del Pleno
END:VEVENT
BEGIN:VEVENT
DTSTART;TZID=America/Bogota:20230906T113000
DTEND;TZID=America/Bogota:20230906T150000
DTSTAMP:20260420T224251
CREATED:20230904T221658Z
LAST-MODIFIED:20230904T221658Z
UID:267168-1693999800-1694012400@www.corteconstitucional.gob.ec
SUMMARY:Sesión jurisdiccional ordinaria Nro. 031-O-2023
DESCRIPTION:Las juezas y jueces que conforman el Pleno de la Corte Constitucional del Ecuador realizarán la Sesión jurisdiccional ordinaria Nro. 031-O-2023\, el miércoles 06 de septiembre\, a partir de las 11h30. \nConoce el orden del día AQUÍ
URL:https://www.corteconstitucional.gob.ec/event/sesion-jurisdiccional-ordinaria-nro-031-o-2023/
CATEGORIES:Sesiones del Pleno
END:VEVENT
BEGIN:VEVENT
DTSTART;TZID=America/Bogota:20230911T093000
DTEND;TZID=America/Bogota:20230911T120000
DTSTAMP:20260420T224251
CREATED:20230822T190051Z
LAST-MODIFIED:20230822T190051Z
UID:275102-1694424600-1694433600@www.corteconstitucional.gob.ec
SUMMARY:Audiencia Pública telemática del Caso Nro. 1167-19-JP
DESCRIPTION:La jueza sustanciadora Teresa Nuques Martínez convoca a las partes procesales y a los terceros interesados a la Audiencia Pública telemática del Caso Nro. 1167-19-JP.  \nConoce más en la convocatoria AQUÍ
URL:https://www.corteconstitucional.gob.ec/event/audiencia-publica-telematica-del-caso-nro-1167-19-jp-2/
CATEGORIES:Audiencias Públicas
END:VEVENT
BEGIN:VEVENT
DTSTART;TZID=America/Bogota:20230911T093000
DTEND;TZID=America/Bogota:20230911T120000
DTSTAMP:20260420T224251
CREATED:20230822T190051Z
LAST-MODIFIED:20230822T190107Z
UID:267103-1694424600-1694433600@www.corteconstitucional.gob.ec
SUMMARY:Audiencia Pública telemática del Caso Nro. 1167-19-JP
DESCRIPTION:La jueza sustanciadora Teresa Nuques Martínez convoca a las partes procesales y a los terceros interesados a la Audiencia Pública telemática del Caso Nro. 1167-19-JP.  \nConoce más en la convocatoria AQUÍ
URL:https://www.corteconstitucional.gob.ec/event/audiencia-publica-telematica-del-caso-nro-1167-19-jp/
CATEGORIES:Audiencias Públicas
END:VEVENT
BEGIN:VEVENT
DTSTART;TZID=America/Bogota:20230911T113000
DTEND;TZID=America/Bogota:20230911T150000
DTSTAMP:20260420T224251
CREATED:20230912T142303Z
LAST-MODIFIED:20230912T142303Z
UID:275108-1694431800-1694444400@www.corteconstitucional.gob.ec
SUMMARY:Audiencia Pública Caso Nro. 1798-21-JP
DESCRIPTION:La jueza sustanciadora Teresa Nuques Martínez convoca a las partes procesales y terceros interesados a la Audiencia Pública telemática del Caso Nro. 1798-21-JP. \nConoce más AQUÍ
URL:https://www.corteconstitucional.gob.ec/event/audiencia-publica-caso-nro-1798-21-jp-2/
CATEGORIES:Audiencias Públicas
END:VEVENT
BEGIN:VEVENT
DTSTART;TZID=America/Bogota:20230911T113000
DTEND;TZID=America/Bogota:20230911T150000
DTSTAMP:20260420T224251
CREATED:20230912T142303Z
LAST-MODIFIED:20230912T142320Z
UID:267219-1694431800-1694444400@www.corteconstitucional.gob.ec
SUMMARY:Audiencia Pública Caso Nro. 1798-21-JP
DESCRIPTION:La jueza sustanciadora Teresa Nuques Martínez convoca a las partes procesales y terceros interesados a la Audiencia Pública telemática del Caso Nro. 1798-21-JP. \nConoce más AQUÍ
URL:https://www.corteconstitucional.gob.ec/event/audiencia-publica-caso-nro-1798-21-jp/
CATEGORIES:Audiencias Públicas
END:VEVENT
BEGIN:VEVENT
DTSTART;TZID=America/Bogota:20230912T153000
DTEND;TZID=America/Bogota:20230912T170000
DTSTAMP:20260420T224251
CREATED:20230912T143247Z
LAST-MODIFIED:20230912T143247Z
UID:267221-1694532600-1694538000@www.corteconstitucional.gob.ec
SUMMARY:Audiencia pública caso Nro. 5-23-UE
DESCRIPTION:La jueza sustanciadora Carmen Corral Ponce convoca a la Audiencia Pública telemática del Caso Nro. 5-23-UE. Conoce más en la convocatoria AQUÍ https://tinyurl.com/yunoa7p4
URL:https://www.corteconstitucional.gob.ec/event/audiencia-publica-caso-nro-5-23-ue/
CATEGORIES:Audiencias Públicas
END:VEVENT
BEGIN:VEVENT
DTSTART;TZID=America/Bogota:20230912T153000
DTEND;TZID=America/Bogota:20230912T170000
DTSTAMP:20260420T224251
CREATED:20230912T143247Z
LAST-MODIFIED:20230912T143247Z
UID:275109-1694532600-1694538000@www.corteconstitucional.gob.ec
SUMMARY:Audiencia pública caso Nro. 5-23-UE
DESCRIPTION:La jueza sustanciadora Carmen Corral Ponce convoca a la Audiencia Pública telemática del Caso Nro. 5-23-UE. Conoce más en la convocatoria AQUÍ https://tinyurl.com/yunoa7p4
URL:https://www.corteconstitucional.gob.ec/event/audiencia-publica-caso-nro-5-23-ue-2/
CATEGORIES:Audiencias Públicas
END:VEVENT
BEGIN:VEVENT
DTSTART;TZID=America/Bogota:20230913T113000
DTEND;TZID=America/Bogota:20230913T170000
DTSTAMP:20260420T224251
CREATED:20230912T143945Z
LAST-MODIFIED:20230912T143945Z
UID:275110-1694604600-1694624400@www.corteconstitucional.gob.ec
SUMMARY:Sesión jurisdiccional ordinaria 032-O-2023
DESCRIPTION:Las juezas y jueces que conforman el Pleno de la Corte Constitucional realizarán la sesión ordinaria Nro. 032-O2023. \nConoce el orden del día AQUÍ
URL:https://www.corteconstitucional.gob.ec/event/sesion-jurisdiccional-ordinaria-032-o-2023-2/
CATEGORIES:Sesiones del Pleno
END:VEVENT
BEGIN:VEVENT
DTSTART;TZID=America/Bogota:20230913T113000
DTEND;TZID=America/Bogota:20230913T170000
DTSTAMP:20260420T224251
CREATED:20230912T143945Z
LAST-MODIFIED:20230912T143945Z
UID:267225-1694604600-1694624400@www.corteconstitucional.gob.ec
SUMMARY:Sesión jurisdiccional ordinaria 032-O-2023
DESCRIPTION:Las juezas y jueces que conforman el Pleno de la Corte Constitucional realizarán la sesión ordinaria Nro. 032-O2023. \nConoce el orden del día AQUÍ
URL:https://www.corteconstitucional.gob.ec/event/sesion-jurisdiccional-ordinaria-032-o-2023/
CATEGORIES:Sesiones del Pleno
END:VEVENT
BEGIN:VEVENT
DTSTART;TZID=America/Bogota:20230915T153000
DTEND;TZID=America/Bogota:20230915T163000
DTSTAMP:20260420T224251
CREATED:20230914T212604Z
LAST-MODIFIED:20230914T212604Z
UID:275111-1694791800-1694795400@www.corteconstitucional.gob.ec
SUMMARY:Tercer Tribunal de Sala de Admisión
DESCRIPTION:Los jueces constitucionales Jhoel Escudero Soliz y Enrique Herrería Bonnet; y la jueza constitucional Carmen Corral Ponce\, integrantes del Tercer Tribunal de Sala de Admisión\, sesionarán el 15 de septiembre de 2023.
URL:https://www.corteconstitucional.gob.ec/event/tercer-tribunal-de-sala-de-admision-3-2/
CATEGORIES:Sesiones de Salas de Admisión, Selección y Revisión
END:VEVENT
BEGIN:VEVENT
DTSTART;TZID=America/Bogota:20230915T153000
DTEND;TZID=America/Bogota:20230915T163000
DTSTAMP:20260420T224251
CREATED:20230914T212604Z
LAST-MODIFIED:20230914T212604Z
UID:267243-1694791800-1694795400@www.corteconstitucional.gob.ec
SUMMARY:Tercer Tribunal de Sala de Admisión
DESCRIPTION:Los jueces constitucionales Jhoel Escudero Soliz y Enrique Herrería Bonnet; y la jueza constitucional Carmen Corral Ponce\, integrantes del Tercer Tribunal de Sala de Admisión\, sesionarán el 15 de septiembre de 2023.
URL:https://www.corteconstitucional.gob.ec/event/tercer-tribunal-de-sala-de-admision-3/
CATEGORIES:Sesiones de Salas de Admisión, Selección y Revisión
END:VEVENT
BEGIN:VEVENT
DTSTART;TZID=America/Bogota:20230918T100000
DTEND;TZID=America/Bogota:20230918T113000
DTSTAMP:20260420T224251
CREATED:20230908T165858Z
LAST-MODIFIED:20230908T165858Z
UID:275107-1695031200-1695036600@www.corteconstitucional.gob.ec
SUMMARY:Audiencia Pública Caso Nro. 51-23-IN
DESCRIPTION:La jueza sustanciadora Alejandra Cárdenas Reyes convoca a las partes procesales y a los amicus curiae a la Audiencia Pública del Caso Nro. 51-23-IN \nConoce la convocatoria AQUÍ
URL:https://www.corteconstitucional.gob.ec/event/audiencia-publica-caso-nro-51-23-in-2/
CATEGORIES:Audiencias Públicas
END:VEVENT
BEGIN:VEVENT
DTSTART;TZID=America/Bogota:20230918T100000
DTEND;TZID=America/Bogota:20230918T113000
DTSTAMP:20260420T224251
CREATED:20230908T165858Z
LAST-MODIFIED:20230908T165858Z
UID:267181-1695031200-1695036600@www.corteconstitucional.gob.ec
SUMMARY:Audiencia Pública Caso Nro. 51-23-IN
DESCRIPTION:La jueza sustanciadora Alejandra Cárdenas Reyes convoca a las partes procesales y a los amicus curiae a la Audiencia Pública del Caso Nro. 51-23-IN \nConoce la convocatoria AQUÍ
URL:https://www.corteconstitucional.gob.ec/event/audiencia-publica-caso-nro-51-23-in/
CATEGORIES:Audiencias Públicas
END:VEVENT
BEGIN:VEVENT
DTSTART;TZID=America/Bogota:20230919T100000
DTEND;TZID=America/Bogota:20230919T110000
DTSTAMP:20260420T224251
CREATED:20230919T145142Z
LAST-MODIFIED:20230919T145142Z
UID:275117-1695117600-1695121200@www.corteconstitucional.gob.ec
SUMMARY:Sesión administrativa ordinaria 034-O-2023
DESCRIPTION:Las juezas y jueces que conforman el Pleno de la Corte Constitucional realizarán la sesión administrativa ordinaria Nro. 034-O-2023. \nConoce el orden del día AQUÍ  \nSigue en vivo la sesión AQUÍ 
URL:https://www.corteconstitucional.gob.ec/event/sesion-administrativa-ordinaria-034-o-2023-2/
CATEGORIES:Sesiones del Pleno
END:VEVENT
BEGIN:VEVENT
DTSTART;TZID=America/Bogota:20230919T100000
DTEND;TZID=America/Bogota:20230919T110000
DTSTAMP:20260420T224251
CREATED:20230919T145142Z
LAST-MODIFIED:20230919T145142Z
UID:267303-1695117600-1695121200@www.corteconstitucional.gob.ec
SUMMARY:Sesión administrativa ordinaria 034-O-2023
DESCRIPTION:Las juezas y jueces que conforman el Pleno de la Corte Constitucional realizarán la sesión administrativa ordinaria Nro. 034-O-2023. \nConoce el orden del día AQUÍ  \nSigue en vivo la sesión AQUÍ 
URL:https://www.corteconstitucional.gob.ec/event/sesion-administrativa-ordinaria-034-o-2023/
CATEGORIES:Sesiones del Pleno
END:VEVENT
BEGIN:VEVENT
DTSTART;TZID=America/Bogota:20230920T113000
DTEND;TZID=America/Bogota:20230920T153000
DTSTAMP:20260420T224251
CREATED:20230919T144607Z
LAST-MODIFIED:20230919T144607Z
UID:275116-1695209400-1695223800@www.corteconstitucional.gob.ec
SUMMARY:Sesión jurisdiccional ordinaria Nro. 033-O-2023
DESCRIPTION:Las juezas y jueces que conforman el Pleno de la Corte Constitucional realizarán la sesión ordinaria Nro. 033-0-2023. \nConoce el orden del día AQUÍ
URL:https://www.corteconstitucional.gob.ec/event/sesion-jurisdiccional-ordinaria-nro-033-o-2023-2/
CATEGORIES:Sesiones del Pleno
END:VEVENT
BEGIN:VEVENT
DTSTART;TZID=America/Bogota:20230920T113000
DTEND;TZID=America/Bogota:20230920T153000
DTSTAMP:20260420T224251
CREATED:20230919T144607Z
LAST-MODIFIED:20230919T144607Z
UID:267300-1695209400-1695223800@www.corteconstitucional.gob.ec
SUMMARY:Sesión jurisdiccional ordinaria Nro. 033-O-2023
DESCRIPTION:Las juezas y jueces que conforman el Pleno de la Corte Constitucional realizarán la sesión ordinaria Nro. 033-0-2023. \nConoce el orden del día AQUÍ
URL:https://www.corteconstitucional.gob.ec/event/sesion-jurisdiccional-ordinaria-nro-033-o-2023/
CATEGORIES:Sesiones del Pleno
END:VEVENT
BEGIN:VEVENT
DTSTART;TZID=America/Bogota:20230921T150000
DTEND;TZID=America/Bogota:20230921T163000
DTSTAMP:20260420T224251
CREATED:20230620T201057Z
LAST-MODIFIED:20230620T201057Z
UID:275071-1695308400-1695313800@www.corteconstitucional.gob.ec
SUMMARY:Audiencia Pública Caso Nro. 16-19-AN
DESCRIPTION:El juez sustanciador Jhoel Escudero Soliz difiere la Audiencia Pública telemática del Caso Nro. 16-19-AN para el 17 de agosto\, a partir de las 15h00. \nAccede a la convocatoria AQUÍ \nAccede al diferimiento AQUÍ
URL:https://www.corteconstitucional.gob.ec/event/audiencia-publica-caso-nro-16-19-an-2/
CATEGORIES:Audiencias Públicas
END:VEVENT
BEGIN:VEVENT
DTSTART;TZID=America/Bogota:20230921T150000
DTEND;TZID=America/Bogota:20230921T163000
DTSTAMP:20260420T224251
CREATED:20230620T201057Z
LAST-MODIFIED:20230914T204915Z
UID:266535-1695308400-1695313800@www.corteconstitucional.gob.ec
SUMMARY:Audiencia Pública Caso Nro. 16-19-AN
DESCRIPTION:El juez sustanciador Jhoel Escudero Soliz difiere la Audiencia Pública telemática del Caso Nro. 16-19-AN para el 17 de agosto\, a partir de las 15h00. \nAccede a la convocatoria AQUÍ \nAccede al diferimiento AQUÍ
URL:https://www.corteconstitucional.gob.ec/event/audiencia-publica-caso-nro-16-19-an/
CATEGORIES:Audiencias Públicas
END:VEVENT
BEGIN:VEVENT
DTSTART;TZID=America/Bogota:20230922T093000
DTEND;TZID=America/Bogota:20230922T110000
DTSTAMP:20260420T224251
CREATED:20230920T154709Z
LAST-MODIFIED:20230920T154709Z
UID:275118-1695375000-1695380400@www.corteconstitucional.gob.ec
SUMMARY:Audiencia Reservada Caso Nro. 969-20-EP
DESCRIPTION:La jueza sustanciadora Alejandra Cárdenas Reyes convoca a las partes procesales a la audiencia reservada del Caso Nro. 969-20-EP. \nConvocatoria
URL:https://www.corteconstitucional.gob.ec/event/audiencia-reservada-caso-nro-969-20-ep-2/
CATEGORIES:Audiencias Públicas
END:VEVENT
BEGIN:VEVENT
DTSTART;TZID=America/Bogota:20230922T093000
DTEND;TZID=America/Bogota:20230922T110000
DTSTAMP:20260420T224251
CREATED:20230920T154709Z
LAST-MODIFIED:20230920T161039Z
UID:267329-1695375000-1695380400@www.corteconstitucional.gob.ec
SUMMARY:Audiencia Reservada Caso Nro. 969-20-EP
DESCRIPTION:La jueza sustanciadora Alejandra Cárdenas Reyes convoca a las partes procesales a la audiencia reservada del Caso Nro. 969-20-EP. \nConvocatoria
URL:https://www.corteconstitucional.gob.ec/event/audiencia-reservada-caso-nro-969-20-ep/
CATEGORIES:Audiencias Públicas
END:VEVENT
BEGIN:VEVENT
DTSTART;TZID=America/Bogota:20230922T110000
DTEND;TZID=America/Bogota:20230922T143000
DTSTAMP:20260420T224251
CREATED:20230922T160115Z
LAST-MODIFIED:20230922T160115Z
UID:275119-1695380400-1695393000@www.corteconstitucional.gob.ec
SUMMARY:Sesión jurisdiccional extraordinaria 020-E-2023
DESCRIPTION:Las juezas y jueces que conforman el Pleno de la Corte Constitucional fueron convocadas a la Sesión jurisdiccional extraordinaria 020-E-2023. \nOrden del día AQUÍ
URL:https://www.corteconstitucional.gob.ec/event/sesion-jurisdiccional-extraordinaria-020-e-2023-2/
CATEGORIES:Sesiones del Pleno
END:VEVENT
BEGIN:VEVENT
DTSTART;TZID=America/Bogota:20230922T110000
DTEND;TZID=America/Bogota:20230922T143000
DTSTAMP:20260420T224251
CREATED:20230922T160115Z
LAST-MODIFIED:20230922T160214Z
UID:267342-1695380400-1695393000@www.corteconstitucional.gob.ec
SUMMARY:Sesión jurisdiccional extraordinaria 020-E-2023
DESCRIPTION:Las juezas y jueces que conforman el Pleno de la Corte Constitucional fueron convocadas a la Sesión jurisdiccional extraordinaria 020-E-2023. \nOrden del día AQUÍ
URL:https://www.corteconstitucional.gob.ec/event/sesion-jurisdiccional-extraordinaria-020-e-2023/
CATEGORIES:Sesiones del Pleno
END:VEVENT
BEGIN:VEVENT
DTSTART;TZID=America/Bogota:20230925T100000
DTEND;TZID=America/Bogota:20230925T133000
DTSTAMP:20260420T224251
CREATED:20230925T145114Z
LAST-MODIFIED:20230925T145114Z
UID:275120-1695636000-1695648600@www.corteconstitucional.gob.ec
SUMMARY:Sesión jurisdiccional extraordinaria
DESCRIPTION:Las juezas y jueces constitucionales que conforman el Pleno de la Corte Constitucional realizarán la Sesión Jurisdiccional Extraordinaria Nro. 021-E-2023 \nConoce el orden del día AQUÍ
URL:https://www.corteconstitucional.gob.ec/event/sesion-jurisdiccional-extraordinaria-2/
CATEGORIES:Sesiones del Pleno
END:VEVENT
BEGIN:VEVENT
DTSTART;TZID=America/Bogota:20230925T100000
DTEND;TZID=America/Bogota:20230925T133000
DTSTAMP:20260420T224251
CREATED:20230925T145114Z
LAST-MODIFIED:20230925T145114Z
UID:267356-1695636000-1695648600@www.corteconstitucional.gob.ec
SUMMARY:Sesión jurisdiccional extraordinaria
DESCRIPTION:Las juezas y jueces constitucionales que conforman el Pleno de la Corte Constitucional realizarán la Sesión Jurisdiccional Extraordinaria Nro. 021-E-2023 \nConoce el orden del día AQUÍ
URL:https://www.corteconstitucional.gob.ec/event/sesion-jurisdiccional-extraordinaria/
CATEGORIES:Sesiones del Pleno
END:VEVENT
BEGIN:VEVENT
DTSTART;TZID=America/Bogota:20230926T090000
DTEND;TZID=America/Bogota:20230926T110000
DTSTAMP:20260420T224251
CREATED:20230918T182425Z
LAST-MODIFIED:20230918T182425Z
UID:275112-1695718800-1695726000@www.corteconstitucional.gob.ec
SUMMARY:Segundo Tribunal de Sala de Admisión
DESCRIPTION:#SesionesCC | Las juezas constitucionales Karla Andrade Quevedo\, Alejandra Cárdenas Reyes y Teresa Nuques Martínez\, integrantes del Segundo Tribunal de Sala de Admisión\, sesionarán el 26 de septiembre.
URL:https://www.corteconstitucional.gob.ec/event/segundo-tribunal-de-sala-de-admision-4-2/
CATEGORIES:Sesiones de Salas de Admisión, Selección y Revisión
END:VEVENT
BEGIN:VEVENT
DTSTART;TZID=America/Bogota:20230926T090000
DTEND;TZID=America/Bogota:20230926T110000
DTSTAMP:20260420T224251
CREATED:20230918T182425Z
LAST-MODIFIED:20230918T182425Z
UID:267260-1695718800-1695726000@www.corteconstitucional.gob.ec
SUMMARY:Segundo Tribunal de Sala de Admisión
DESCRIPTION:#SesionesCC | Las juezas constitucionales Karla Andrade Quevedo\, Alejandra Cárdenas Reyes y Teresa Nuques Martínez\, integrantes del Segundo Tribunal de Sala de Admisión\, sesionarán el 26 de septiembre.
URL:https://www.corteconstitucional.gob.ec/event/segundo-tribunal-de-sala-de-admision-4/
CATEGORIES:Sesiones de Salas de Admisión, Selección y Revisión
END:VEVENT
BEGIN:VEVENT
DTSTART;TZID=America/Bogota:20230926T100000
DTEND;TZID=America/Bogota:20230926T113000
DTSTAMP:20260420T224251
CREATED:20230918T184947Z
LAST-MODIFIED:20230918T184947Z
UID:275113-1695722400-1695727800@www.corteconstitucional.gob.ec
SUMMARY:Audiencia Pública telemática Caso Nro. 6-23-UE
DESCRIPTION:La jueza sustanciadora Teresa Nuques Martínez convoca a la Audiencia Pública telemática del Caso Nro. 6-23-UE. \nConoce los detalles de la convocatoria AQUÍ \nMíralo en vivo por nuestro canal de YouTube AQUÍ
URL:https://www.corteconstitucional.gob.ec/event/audiencia-publica-telematica-caso-nro-6-23-ue-2/
CATEGORIES:Audiencias Públicas
END:VEVENT
BEGIN:VEVENT
DTSTART;TZID=America/Bogota:20230926T100000
DTEND;TZID=America/Bogota:20230926T113000
DTSTAMP:20260420T224251
CREATED:20230918T184947Z
LAST-MODIFIED:20230918T184947Z
UID:267283-1695722400-1695727800@www.corteconstitucional.gob.ec
SUMMARY:Audiencia Pública telemática Caso Nro. 6-23-UE
DESCRIPTION:La jueza sustanciadora Teresa Nuques Martínez convoca a la Audiencia Pública telemática del Caso Nro. 6-23-UE. \nConoce los detalles de la convocatoria AQUÍ \nMíralo en vivo por nuestro canal de YouTube AQUÍ
URL:https://www.corteconstitucional.gob.ec/event/audiencia-publica-telematica-caso-nro-6-23-ue/
CATEGORIES:Audiencias Públicas
END:VEVENT
END:VCALENDAR