BEGIN:VCALENDAR
VERSION:2.0
PRODID:-//Corte Constitucional del Ecuador - ECPv6.10.2//NONSGML v1.0//EN
CALSCALE:GREGORIAN
METHOD:PUBLISH
X-WR-CALNAME:Corte Constitucional del Ecuador
X-ORIGINAL-URL:https://www.corteconstitucional.gob.ec
X-WR-CALDESC:Eventos para Corte Constitucional del Ecuador
REFRESH-INTERVAL;VALUE=DURATION:PT1H
X-Robots-Tag:noindex
X-PUBLISHED-TTL:PT1H
BEGIN:VTIMEZONE
TZID:America/Bogota
BEGIN:STANDARD
TZOFFSETFROM:-0500
TZOFFSETTO:-0500
TZNAME:-05
DTSTART:20230101T000000
END:STANDARD
END:VTIMEZONE
BEGIN:VEVENT
DTSTART;TZID=America/Bogota:20230802T113000
DTEND;TZID=America/Bogota:20230802T150000
DTSTAMP:20260420T235052
CREATED:20230801T134304Z
LAST-MODIFIED:20230801T134304Z
UID:266861-1690975800-1690988400@www.corteconstitucional.gob.ec
SUMMARY:Sesión Ordinaria Nro. 025-O-2023
DESCRIPTION:Las juezas y jueces constitucionales que conforman el Pleno de la Corte Constitucional realizarán la sesión ordinaria Nro. 025-O-2023. \nConoce el orden del día AQUÍ
URL:https://www.corteconstitucional.gob.ec/event/sesion-ordinaria-nro-025-o-2023/
CATEGORIES:Sesiones del Pleno
END:VEVENT
BEGIN:VEVENT
DTSTART;TZID=America/Bogota:20230802T113000
DTEND;TZID=America/Bogota:20230802T150000
DTSTAMP:20260420T235052
CREATED:20230801T134304Z
LAST-MODIFIED:20230801T134304Z
UID:275087-1690975800-1690988400@www.corteconstitucional.gob.ec
SUMMARY:Sesión Ordinaria Nro. 025-O-2023
DESCRIPTION:Las juezas y jueces constitucionales que conforman el Pleno de la Corte Constitucional realizarán la sesión ordinaria Nro. 025-O-2023. \nConoce el orden del día AQUÍ
URL:https://www.corteconstitucional.gob.ec/event/sesion-ordinaria-nro-025-o-2023-2/
CATEGORIES:Sesiones del Pleno
END:VEVENT
BEGIN:VEVENT
DTSTART;TZID=America/Bogota:20230807T153000
DTEND;TZID=America/Bogota:20230807T163000
DTSTAMP:20260420T235052
CREATED:20230803T193843Z
LAST-MODIFIED:20230803T193843Z
UID:266886-1691422200-1691425800@www.corteconstitucional.gob.ec
SUMMARY:Primer Tribunal de la Sala de Admisión
DESCRIPTION:La jueza constitucional Daniela Salazar Marín y los jueces constitucionales Jhoel Escudero Soliz y Richard Ortiz Ortiz\, integrantes del Primer Tribunal de la Sala de Admisión\, sesionarán el 07 de agosto del 2023.
URL:https://www.corteconstitucional.gob.ec/event/primer-tribunal-de-la-sala-de-admision-2/
CATEGORIES:Sesiones de Salas de Admisión, Selección y Revisión
END:VEVENT
BEGIN:VEVENT
DTSTART;TZID=America/Bogota:20230807T153000
DTEND;TZID=America/Bogota:20230807T163000
DTSTAMP:20260420T235052
CREATED:20230803T193843Z
LAST-MODIFIED:20230803T193843Z
UID:275091-1691422200-1691425800@www.corteconstitucional.gob.ec
SUMMARY:Primer Tribunal de la Sala de Admisión
DESCRIPTION:La jueza constitucional Daniela Salazar Marín y los jueces constitucionales Jhoel Escudero Soliz y Richard Ortiz Ortiz\, integrantes del Primer Tribunal de la Sala de Admisión\, sesionarán el 07 de agosto del 2023.
URL:https://www.corteconstitucional.gob.ec/event/primer-tribunal-de-la-sala-de-admision-2-2/
CATEGORIES:Sesiones de Salas de Admisión, Selección y Revisión
END:VEVENT
BEGIN:VEVENT
DTSTART;TZID=America/Bogota:20230809T113000
DTEND;TZID=America/Bogota:20230809T163000
DTSTAMP:20260420T235052
CREATED:20230808T151221Z
LAST-MODIFIED:20230808T151221Z
UID:275093-1691580600-1691598600@www.corteconstitucional.gob.ec
SUMMARY:Sesión ordinaria Nro. 026-O-2023
DESCRIPTION:Las juezas y jueces constitucionales que conforman el Pleno de la Corte Constitucional realizarán la sesión ordinaria Nro. 026-O-2023. \nConoce el orden del día AQUÍ
URL:https://www.corteconstitucional.gob.ec/event/sesion-ordinaria-nro-026-o-2023-2/
CATEGORIES:Sesiones del Pleno
END:VEVENT
BEGIN:VEVENT
DTSTART;TZID=America/Bogota:20230809T113000
DTEND;TZID=America/Bogota:20230809T163000
DTSTAMP:20260420T235052
CREATED:20230808T151221Z
LAST-MODIFIED:20230808T151221Z
UID:266912-1691580600-1691598600@www.corteconstitucional.gob.ec
SUMMARY:Sesión ordinaria Nro. 026-O-2023
DESCRIPTION:Las juezas y jueces constitucionales que conforman el Pleno de la Corte Constitucional realizarán la sesión ordinaria Nro. 026-O-2023. \nConoce el orden del día AQUÍ
URL:https://www.corteconstitucional.gob.ec/event/sesion-ordinaria-nro-026-o-2023/
CATEGORIES:Sesiones del Pleno
END:VEVENT
BEGIN:VEVENT
DTSTART;TZID=America/Bogota:20230809T150000
DTEND;TZID=America/Bogota:20230809T163000
DTSTAMP:20260420T235052
CREATED:20230808T213255Z
LAST-MODIFIED:20230808T213255Z
UID:266946-1691593200-1691598600@www.corteconstitucional.gob.ec
SUMMARY:Audiencia Pública telemática del Caso Nro. 32-21-AN
DESCRIPTION:La jueza sustanciadora Teresa Nuques Martínez convoca a la Audiencia Pública telemática del Caso Nro. 32-21-AN. \nConoce la convocatoria AQUÍ
URL:https://www.corteconstitucional.gob.ec/event/audiencia-publica-telematica-del-caso-nro-32-21-an/
CATEGORIES:Audiencias Públicas
END:VEVENT
BEGIN:VEVENT
DTSTART;TZID=America/Bogota:20230809T150000
DTEND;TZID=America/Bogota:20230809T163000
DTSTAMP:20260420T235052
CREATED:20230808T213255Z
LAST-MODIFIED:20230808T213255Z
UID:275094-1691593200-1691598600@www.corteconstitucional.gob.ec
SUMMARY:Audiencia Pública telemática del Caso Nro. 32-21-AN
DESCRIPTION:La jueza sustanciadora Teresa Nuques Martínez convoca a la Audiencia Pública telemática del Caso Nro. 32-21-AN. \nConoce la convocatoria AQUÍ
URL:https://www.corteconstitucional.gob.ec/event/audiencia-publica-telematica-del-caso-nro-32-21-an-2/
CATEGORIES:Audiencias Públicas
END:VEVENT
BEGIN:VEVENT
DTSTART;TZID=America/Bogota:20230816T080000
DTEND;TZID=America/Bogota:20230816T170000
DTSTAMP:20260420T235052
CREATED:20230815T140355Z
LAST-MODIFIED:20230815T140355Z
UID:275097-1692172800-1692205200@www.corteconstitucional.gob.ec
SUMMARY:Sesión Jurisdiccional Ordinaria Nro. 027-O-2023
DESCRIPTION:Las juezas y jueces que conforman el Pleno de la Corte Constitucional del Ecuador realizarán la sesión jurisdiccional ordinaria Nro. 027-O-2023\, el miércoles 16 de agosto\, a partir de las 11h30. \nAccede a la convocatoria AQUÍ
URL:https://www.corteconstitucional.gob.ec/event/sesion-jurisdiccional-ordinaria-nro-027-o-2023-2/
CATEGORIES:Sesiones del Pleno
END:VEVENT
BEGIN:VEVENT
DTSTART;TZID=America/Bogota:20230816T080000
DTEND;TZID=America/Bogota:20230816T170000
DTSTAMP:20260420T235052
CREATED:20230815T140355Z
LAST-MODIFIED:20230828T173657Z
UID:267014-1692172800-1692205200@www.corteconstitucional.gob.ec
SUMMARY:Sesión Jurisdiccional Ordinaria Nro. 027-O-2023
DESCRIPTION:Las juezas y jueces que conforman el Pleno de la Corte Constitucional del Ecuador realizarán la sesión jurisdiccional ordinaria Nro. 027-O-2023\, el miércoles 16 de agosto\, a partir de las 11h30. \nAccede a la convocatoria AQUÍ
URL:https://www.corteconstitucional.gob.ec/event/sesion-jurisdiccional-ordinaria-nro-027-o-2023/
CATEGORIES:Sesiones del Pleno
END:VEVENT
BEGIN:VEVENT
DTSTART;TZID=America/Bogota:20230816T150000
DTEND;TZID=America/Bogota:20230816T163000
DTSTAMP:20260420T235052
CREATED:20230808T223827Z
LAST-MODIFIED:20230808T223827Z
UID:275095-1692198000-1692203400@www.corteconstitucional.gob.ec
SUMMARY:Segunda Sala de Selección
DESCRIPTION:Las juezas constitucionales Carmen Corral Ponce y Teresa Nuques Martínez; y\, el juez constitucional Jhoel Escudero Soliz\, integrantes de la Segunda Sala de Selección sesionarán el 16 de agosto.
URL:https://www.corteconstitucional.gob.ec/event/segunda-sala-de-seleccion-3-2/
CATEGORIES:Sesiones de Salas de Admisión, Selección y Revisión
END:VEVENT
BEGIN:VEVENT
DTSTART;TZID=America/Bogota:20230816T150000
DTEND;TZID=America/Bogota:20230816T163000
DTSTAMP:20260420T235052
CREATED:20230808T223827Z
LAST-MODIFIED:20230808T223827Z
UID:266948-1692198000-1692203400@www.corteconstitucional.gob.ec
SUMMARY:Segunda Sala de Selección
DESCRIPTION:Las juezas constitucionales Carmen Corral Ponce y Teresa Nuques Martínez; y\, el juez constitucional Jhoel Escudero Soliz\, integrantes de la Segunda Sala de Selección sesionarán el 16 de agosto.
URL:https://www.corteconstitucional.gob.ec/event/segunda-sala-de-seleccion-3/
CATEGORIES:Sesiones de Salas de Admisión, Selección y Revisión
END:VEVENT
BEGIN:VEVENT
DTSTART;TZID=America/Bogota:20230822T100000
DTEND;TZID=America/Bogota:20230822T120000
DTSTAMP:20260420T235052
CREATED:20230821T194508Z
LAST-MODIFIED:20230821T194508Z
UID:275101-1692698400-1692705600@www.corteconstitucional.gob.ec
SUMMARY:Sesión Jurisdiccional Extraordinaria  Nro. 017-E-2023
DESCRIPTION:Las juezas y jueces que conforman el Pleno de la Corte Constitucional del Ecuador realizarán la sesión jurisdiccional extraordinaria Nro. 017-E-2023\, el martes 22 de agosto\, a partir de las 10h00. \nAccede a la convocatoria AQUÍ
URL:https://www.corteconstitucional.gob.ec/event/sesion-jurisdiccional-extraordinaria-nro-017-e-2023-2/
CATEGORIES:Sesiones del Pleno
END:VEVENT
BEGIN:VEVENT
DTSTART;TZID=America/Bogota:20230822T100000
DTEND;TZID=America/Bogota:20230822T120000
DTSTAMP:20260420T235052
CREATED:20230821T194508Z
LAST-MODIFIED:20230821T194508Z
UID:267080-1692698400-1692705600@www.corteconstitucional.gob.ec
SUMMARY:Sesión Jurisdiccional Extraordinaria  Nro. 017-E-2023
DESCRIPTION:Las juezas y jueces que conforman el Pleno de la Corte Constitucional del Ecuador realizarán la sesión jurisdiccional extraordinaria Nro. 017-E-2023\, el martes 22 de agosto\, a partir de las 10h00. \nAccede a la convocatoria AQUÍ
URL:https://www.corteconstitucional.gob.ec/event/sesion-jurisdiccional-extraordinaria-nro-017-e-2023/
CATEGORIES:Sesiones del Pleno
END:VEVENT
BEGIN:VEVENT
DTSTART;TZID=America/Bogota:20230822T150000
DTEND;TZID=America/Bogota:20230822T163000
DTSTAMP:20260420T235052
CREATED:20230814T201948Z
LAST-MODIFIED:20230822T190123Z
UID:266984-1692716400-1692721800@www.corteconstitucional.gob.ec
SUMMARY:Tercer Tribunal de Sala de Admisión
DESCRIPTION:#SesionesCC | Las juezas constitucionales Karla Andrade Quevedo y Alejandra Cárdenas Reyes; y\, el juez constitucional Richard Ortiz Ortiz\, integrantes del Tercer Tribunal de Sala de Admisión\, sesionarán el 22 de agosto a las 15h00.
URL:https://www.corteconstitucional.gob.ec/event/tercer-tribunal-de-sala-de-admision-2/
CATEGORIES:Sesiones de Salas de Admisión, Selección y Revisión
END:VEVENT
BEGIN:VEVENT
DTSTART;TZID=America/Bogota:20230822T150000
DTEND;TZID=America/Bogota:20230822T163000
DTSTAMP:20260420T235052
CREATED:20230814T201948Z
LAST-MODIFIED:20230814T201948Z
UID:275096-1692716400-1692721800@www.corteconstitucional.gob.ec
SUMMARY:Tercer Tribunal de Sala de Admisión
DESCRIPTION:#SesionesCC | Las juezas constitucionales Karla Andrade Quevedo y Alejandra Cárdenas Reyes; y\, el juez constitucional Richard Ortiz Ortiz\, integrantes del Tercer Tribunal de Sala de Admisión\, sesionarán el 22 de agosto a las 15h00.
URL:https://www.corteconstitucional.gob.ec/event/tercer-tribunal-de-sala-de-admision-2-2/
CATEGORIES:Sesiones de Salas de Admisión, Selección y Revisión
END:VEVENT
BEGIN:VEVENT
DTSTART;TZID=America/Bogota:20230822T153000
DTEND;TZID=America/Bogota:20230822T170000
DTSTAMP:20260420T235052
CREATED:20230818T180033Z
LAST-MODIFIED:20230822T190200Z
UID:267060-1692718200-1692723600@www.corteconstitucional.gob.ec
SUMMARY:Segundo Tribunal de Sala de Admisión
DESCRIPTION:Las juezas constitucionales Carmen Corral Ponce y Teresa Nuques Martínez; y\, el juez constitucional Alí Lozada Prado\, integrantes del Segundo Tribunal de la Sala de Admisión\, sesionarán el 22 de agosto.
URL:https://www.corteconstitucional.gob.ec/event/segundo-tribunal-de-sala-de-admision-3/
CATEGORIES:Sesiones de Salas de Admisión, Selección y Revisión
END:VEVENT
BEGIN:VEVENT
DTSTART;TZID=America/Bogota:20230822T153000
DTEND;TZID=America/Bogota:20230822T170000
DTSTAMP:20260420T235052
CREATED:20230818T180033Z
LAST-MODIFIED:20230818T180033Z
UID:275099-1692718200-1692723600@www.corteconstitucional.gob.ec
SUMMARY:Segundo Tribunal de Sala de Admisión
DESCRIPTION:Las juezas constitucionales Carmen Corral Ponce y Teresa Nuques Martínez; y\, el juez constitucional Alí Lozada Prado\, integrantes del Segundo Tribunal de la Sala de Admisión\, sesionarán el 22 de agosto.
URL:https://www.corteconstitucional.gob.ec/event/segundo-tribunal-de-sala-de-admision-3-2/
CATEGORIES:Sesiones de Salas de Admisión, Selección y Revisión
END:VEVENT
BEGIN:VEVENT
DTSTART;TZID=America/Bogota:20230823T113000
DTEND;TZID=America/Bogota:20230823T150000
DTSTAMP:20260420T235052
CREATED:20230821T165017Z
LAST-MODIFIED:20230821T165017Z
UID:275100-1692790200-1692802800@www.corteconstitucional.gob.ec
SUMMARY:Sesión jurisdiccional ordinaria No. 028-O-2023
DESCRIPTION:Las juezas y jueces que conforman el Pleno de la Corte Constitucional del Ecuador realizarán la sesión jurisdiccional ordinaria Nro. 028-O-2023\, el miércoles 23 de agosto\, a partir de las 11h30. \nAccede a la convocatoria AQUÍ
URL:https://www.corteconstitucional.gob.ec/event/sesion-jurisdiccional-ordinaria-no-028-o-2023-2/
CATEGORIES:Sesiones del Pleno
END:VEVENT
BEGIN:VEVENT
DTSTART;TZID=America/Bogota:20230823T113000
DTEND;TZID=America/Bogota:20230823T150000
DTSTAMP:20260420T235052
CREATED:20230821T165017Z
LAST-MODIFIED:20230821T165017Z
UID:267067-1692790200-1692802800@www.corteconstitucional.gob.ec
SUMMARY:Sesión jurisdiccional ordinaria No. 028-O-2023
DESCRIPTION:Las juezas y jueces que conforman el Pleno de la Corte Constitucional del Ecuador realizarán la sesión jurisdiccional ordinaria Nro. 028-O-2023\, el miércoles 23 de agosto\, a partir de las 11h30. \nAccede a la convocatoria AQUÍ
URL:https://www.corteconstitucional.gob.ec/event/sesion-jurisdiccional-ordinaria-no-028-o-2023/
CATEGORIES:Sesiones del Pleno
END:VEVENT
BEGIN:VEVENT
DTSTART;TZID=America/Bogota:20230825T093000
DTEND;TZID=America/Bogota:20230825T113000
DTSTAMP:20260420T235052
CREATED:20230803T193120Z
LAST-MODIFIED:20230803T193120Z
UID:275088-1692955800-1692963000@www.corteconstitucional.gob.ec
SUMMARY:Audiencia Pública telemática Caso Nro. 2-18-AN
DESCRIPTION:El juez sustanciador Alí Lozada Prado convoca a las partes procesales a la Audiencia Pública telemática del Caso Nro. 2-18-AN \nAccede a la convocatoria AQUÍ
URL:https://www.corteconstitucional.gob.ec/event/audiencia-publica-telematica-caso-nro-2-18-an-3/
CATEGORIES:Audiencias Públicas
END:VEVENT
BEGIN:VEVENT
DTSTART;TZID=America/Bogota:20230825T093000
DTEND;TZID=America/Bogota:20230825T113000
DTSTAMP:20260420T235052
CREATED:20230803T193120Z
LAST-MODIFIED:20230814T214252Z
UID:266880-1692955800-1692963000@www.corteconstitucional.gob.ec
SUMMARY:Audiencia Pública telemática Caso Nro. 2-18-AN
DESCRIPTION:El juez sustanciador Alí Lozada Prado convoca a las partes procesales a la Audiencia Pública telemática del Caso Nro. 2-18-AN \nAccede a la convocatoria AQUÍ
URL:https://www.corteconstitucional.gob.ec/event/audiencia-publica-telematica-caso-nro-2-18-an/
CATEGORIES:Audiencias Públicas
END:VEVENT
BEGIN:VEVENT
DTSTART;TZID=America/Bogota:20230825T123000
DTEND;TZID=America/Bogota:20230825T133000
DTSTAMP:20260420T235052
CREATED:20230823T194701Z
LAST-MODIFIED:20230823T201200Z
UID:267115-1692966600-1692970200@www.corteconstitucional.gob.ec
SUMMARY:Audiencia Pública telemática del Caso Nro. 1256-19-EP
DESCRIPTION:La jueza sustanciadora Carmen Corral Ponce convoca a las partes procesales a la audiencia pública telemática del Caso Nro. 1256-19-EP. \nConoce más en la convocatoria AQUÍ
URL:https://www.corteconstitucional.gob.ec/event/audiencia-publica-telematica-del-caso-nro-1256-19-ep/
CATEGORIES:Audiencias Públicas
END:VEVENT
BEGIN:VEVENT
DTSTART;TZID=America/Bogota:20230825T123000
DTEND;TZID=America/Bogota:20230825T133000
DTSTAMP:20260420T235052
CREATED:20230823T194701Z
LAST-MODIFIED:20230823T194701Z
UID:275103-1692966600-1692970200@www.corteconstitucional.gob.ec
SUMMARY:Audiencia Pública telemática del Caso Nro. 1256-19-EP
DESCRIPTION:La jueza sustanciadora Carmen Corral Ponce convoca a las partes procesales a la audiencia pública telemática del Caso Nro. 1256-19-EP. \nConoce más en la convocatoria AQUÍ
URL:https://www.corteconstitucional.gob.ec/event/audiencia-publica-telematica-del-caso-nro-1256-19-ep-2/
CATEGORIES:Audiencias Públicas
END:VEVENT
BEGIN:VEVENT
DTSTART;TZID=America/Bogota:20230829T093000
DTEND;TZID=America/Bogota:20230829T110000
DTSTAMP:20260420T235052
CREATED:20230803T193228Z
LAST-MODIFIED:20230803T193228Z
UID:266882-1693301400-1693306800@www.corteconstitucional.gob.ec
SUMMARY:Audiencia Pública telemática Caso Nro. 2006-18-EP
DESCRIPTION:El juez sustanciador Alí Lozada Prado convoca a las partes procesales a la Audiencia Pública telemática del Caso Nro. 2006-18-EP \nAccede a la convocatoria AQUÍ
URL:https://www.corteconstitucional.gob.ec/event/audiencia-publica-telematica-caso-nro-2006-18-ep/
CATEGORIES:Audiencias Públicas
END:VEVENT
BEGIN:VEVENT
DTSTART;TZID=America/Bogota:20230829T093000
DTEND;TZID=America/Bogota:20230829T110000
DTSTAMP:20260420T235052
CREATED:20230803T193228Z
LAST-MODIFIED:20230803T193228Z
UID:275089-1693301400-1693306800@www.corteconstitucional.gob.ec
SUMMARY:Audiencia Pública telemática Caso Nro. 2006-18-EP
DESCRIPTION:El juez sustanciador Alí Lozada Prado convoca a las partes procesales a la Audiencia Pública telemática del Caso Nro. 2006-18-EP \nAccede a la convocatoria AQUÍ
URL:https://www.corteconstitucional.gob.ec/event/audiencia-publica-telematica-caso-nro-2006-18-ep-2/
CATEGORIES:Audiencias Públicas
END:VEVENT
BEGIN:VEVENT
DTSTART;TZID=America/Bogota:20230829T113000
DTEND;TZID=America/Bogota:20230829T133000
DTSTAMP:20260420T235052
CREATED:20230803T193423Z
LAST-MODIFIED:20230803T193423Z
UID:275090-1693308600-1693315800@www.corteconstitucional.gob.ec
SUMMARY:Audiencia Pública telemática Caso Nro. 3236-19-EP
DESCRIPTION:El juez sustanciador Alí Lozada Prado convoca a las partes procesales a la Audiencia Pública telemática del Caso Nro. 3236-19-EP \nAccede a la convocatoria AQUÍ
URL:https://www.corteconstitucional.gob.ec/event/audiencia-publica-telematica-caso-nro-2-18-an-2-2/
CATEGORIES:Audiencias Públicas
END:VEVENT
BEGIN:VEVENT
DTSTART;TZID=America/Bogota:20230829T113000
DTEND;TZID=America/Bogota:20230829T133000
DTSTAMP:20260420T235052
CREATED:20230803T193423Z
LAST-MODIFIED:20230810T195002Z
UID:266884-1693308600-1693315800@www.corteconstitucional.gob.ec
SUMMARY:Audiencia Pública telemática Caso Nro. 3236-19-EP
DESCRIPTION:El juez sustanciador Alí Lozada Prado convoca a las partes procesales a la Audiencia Pública telemática del Caso Nro. 3236-19-EP \nAccede a la convocatoria AQUÍ
URL:https://www.corteconstitucional.gob.ec/event/audiencia-publica-telematica-caso-nro-2-18-an-2/
CATEGORIES:Audiencias Públicas
END:VEVENT
BEGIN:VEVENT
DTSTART;TZID=America/Bogota:20230830T100000
DTEND;TZID=America/Bogota:20230830T110000
DTSTAMP:20260420T235052
CREATED:20230828T212315Z
LAST-MODIFIED:20230828T212315Z
UID:275104-1693389600-1693393200@www.corteconstitucional.gob.ec
SUMMARY:Sesión administrativa ordinaria Nro. 029-O-2023
DESCRIPTION:Las juezas y jueces que conforman el Pleno de la Corte Constitucional realizarán la sesión administrativa ordinaria Nro. 029-O-2023 \nConoce el orden del día AQUÍ
URL:https://www.corteconstitucional.gob.ec/event/sesion-administrativa-ordinaria-nro-029-o-2023-2/
CATEGORIES:Sesiones del Pleno
END:VEVENT
BEGIN:VEVENT
DTSTART;TZID=America/Bogota:20230830T100000
DTEND;TZID=America/Bogota:20230830T110000
DTSTAMP:20260420T235052
CREATED:20230828T212315Z
LAST-MODIFIED:20230828T212315Z
UID:267135-1693389600-1693393200@www.corteconstitucional.gob.ec
SUMMARY:Sesión administrativa ordinaria Nro. 029-O-2023
DESCRIPTION:Las juezas y jueces que conforman el Pleno de la Corte Constitucional realizarán la sesión administrativa ordinaria Nro. 029-O-2023 \nConoce el orden del día AQUÍ
URL:https://www.corteconstitucional.gob.ec/event/sesion-administrativa-ordinaria-nro-029-o-2023/
CATEGORIES:Sesiones del Pleno
END:VEVENT
END:VCALENDAR