BEGIN:VCALENDAR
VERSION:2.0
PRODID:-//Corte Constitucional del Ecuador - ECPv6.10.2//NONSGML v1.0//EN
CALSCALE:GREGORIAN
METHOD:PUBLISH
X-WR-CALNAME:Corte Constitucional del Ecuador
X-ORIGINAL-URL:https://www.corteconstitucional.gob.ec
X-WR-CALDESC:Eventos para Corte Constitucional del Ecuador
REFRESH-INTERVAL;VALUE=DURATION:PT1H
X-Robots-Tag:noindex
X-PUBLISHED-TTL:PT1H
BEGIN:VTIMEZONE
TZID:America/Bogota
BEGIN:STANDARD
TZOFFSETFROM:-0500
TZOFFSETTO:-0500
TZNAME:-05
DTSTART:20230101T000000
END:STANDARD
END:VTIMEZONE
BEGIN:VEVENT
DTSTART;TZID=America/Bogota:20230705T113000
DTEND;TZID=America/Bogota:20230707T163000
DTSTAMP:20260421T005934
CREATED:20230703T145030Z
LAST-MODIFIED:20230703T145030Z
UID:275076-1688556600-1688747400@www.corteconstitucional.gob.ec
SUMMARY:Sesión Ordinaria del Pleno Nro. 022-O-2023
DESCRIPTION:Las juezas y jueces constitucionales que conforman el Pleno de la Corte Constitucional realizarán\, este 05 de julio\, la sesión ordinaria Nro. 022-O-2023\, a partir de las 11h30. \nConoce el orden del día AQUÍ
URL:https://www.corteconstitucional.gob.ec/event/sesion-ordinaria-del-pleno-nro-022-o-2023-2/
CATEGORIES:Sesiones del Pleno
END:VEVENT
BEGIN:VEVENT
DTSTART;TZID=America/Bogota:20230705T113000
DTEND;TZID=America/Bogota:20230707T163000
DTSTAMP:20260421T005934
CREATED:20230703T145030Z
LAST-MODIFIED:20230703T145030Z
UID:266611-1688556600-1688747400@www.corteconstitucional.gob.ec
SUMMARY:Sesión Ordinaria del Pleno Nro. 022-O-2023
DESCRIPTION:Las juezas y jueces constitucionales que conforman el Pleno de la Corte Constitucional realizarán\, este 05 de julio\, la sesión ordinaria Nro. 022-O-2023\, a partir de las 11h30. \nConoce el orden del día AQUÍ
URL:https://www.corteconstitucional.gob.ec/event/sesion-ordinaria-del-pleno-nro-022-o-2023/
CATEGORIES:Sesiones del Pleno
END:VEVENT
BEGIN:VEVENT
DTSTART;TZID=America/Bogota:20230706T150000
DTEND;TZID=America/Bogota:20230706T163000
DTSTAMP:20260421T005934
CREATED:20230620T201739Z
LAST-MODIFIED:20230620T201739Z
UID:266538-1688655600-1688661000@www.corteconstitucional.gob.ec
SUMMARY:Audiencia Pública telemática del Caso Nro. 20-19-AN
DESCRIPTION:El juez sustanciador Jhoel Escudero Soliz convoca a las partes procesales y a los amicus curiae a la Audiencia Pública telemática del Caso Nro. 20-19-AN \nConoce la convocatoria AQUÍ
URL:https://www.corteconstitucional.gob.ec/event/audiencia-publica-telematica-del-caso-nro-20-19-an/
CATEGORIES:Audiencias Públicas
END:VEVENT
BEGIN:VEVENT
DTSTART;TZID=America/Bogota:20230706T150000
DTEND;TZID=America/Bogota:20230706T163000
DTSTAMP:20260421T005934
CREATED:20230620T201739Z
LAST-MODIFIED:20230620T201739Z
UID:275072-1688655600-1688661000@www.corteconstitucional.gob.ec
SUMMARY:Audiencia Pública telemática del Caso Nro. 20-19-AN
DESCRIPTION:El juez sustanciador Jhoel Escudero Soliz convoca a las partes procesales y a los amicus curiae a la Audiencia Pública telemática del Caso Nro. 20-19-AN \nConoce la convocatoria AQUÍ
URL:https://www.corteconstitucional.gob.ec/event/audiencia-publica-telematica-del-caso-nro-20-19-an-2/
CATEGORIES:Audiencias Públicas
END:VEVENT
BEGIN:VEVENT
DTSTART;TZID=America/Bogota:20230706T150000
DTEND;TZID=America/Bogota:20230706T170000
DTSTAMP:20260421T005934
CREATED:20230630T210841Z
LAST-MODIFIED:20230630T210841Z
UID:275075-1688655600-1688662800@www.corteconstitucional.gob.ec
SUMMARY:Audiencia Pública telemática del Caso Nro. 224-23-JP
DESCRIPTION:El juez sustanciador Richard Ortiz Ortiz convoca a las partes procesales y a los amicus curiae a la Audiencia Pública telemática del Caso Nro. 224-23-JP. \nConoce más AQUÍ  \n 
URL:https://www.corteconstitucional.gob.ec/event/audiencia-publica-telematica-del-caso-nro-224-23-jp-2/
CATEGORIES:Audiencias Públicas
END:VEVENT
BEGIN:VEVENT
DTSTART;TZID=America/Bogota:20230706T150000
DTEND;TZID=America/Bogota:20230706T170000
DTSTAMP:20260421T005934
CREATED:20230630T210841Z
LAST-MODIFIED:20230630T211153Z
UID:266583-1688655600-1688662800@www.corteconstitucional.gob.ec
SUMMARY:Audiencia Pública telemática del Caso Nro. 224-23-JP
DESCRIPTION:El juez sustanciador Richard Ortiz Ortiz convoca a las partes procesales y a los amicus curiae a la Audiencia Pública telemática del Caso Nro. 224-23-JP. \nConoce más AQUÍ  \n 
URL:https://www.corteconstitucional.gob.ec/event/audiencia-publica-telematica-del-caso-nro-224-23-jp/
CATEGORIES:Audiencias Públicas
END:VEVENT
BEGIN:VEVENT
DTSTART;TZID=America/Bogota:20230712T113000
DTEND;TZID=America/Bogota:20230712T163000
DTSTAMP:20260421T005934
CREATED:20230710T174228Z
LAST-MODIFIED:20230710T174228Z
UID:275078-1689161400-1689179400@www.corteconstitucional.gob.ec
SUMMARY:Sesión Ordinaria del Pleno Nro. 023-O-2023
DESCRIPTION:Las juezas y jueces constitucionales que conforman el Pleno de la Corte Constitucional realizarán la Sesión Ordinaria del Pleno Nro. 023-O-2023. La sesión se desarrollará de forma presencial\, el miércoles 12 de julio a partir de las 11h30. \nConoce el orden del día AQUÍ
URL:https://www.corteconstitucional.gob.ec/event/sesion-ordinaria-del-pleno-nro-023-o-2023-2/
CATEGORIES:Sesiones del Pleno
END:VEVENT
BEGIN:VEVENT
DTSTART;TZID=America/Bogota:20230712T113000
DTEND;TZID=America/Bogota:20230712T163000
DTSTAMP:20260421T005934
CREATED:20230710T174228Z
LAST-MODIFIED:20230710T174308Z
UID:266639-1689161400-1689179400@www.corteconstitucional.gob.ec
SUMMARY:Sesión Ordinaria del Pleno Nro. 023-O-2023
DESCRIPTION:Las juezas y jueces constitucionales que conforman el Pleno de la Corte Constitucional realizarán la Sesión Ordinaria del Pleno Nro. 023-O-2023. La sesión se desarrollará de forma presencial\, el miércoles 12 de julio a partir de las 11h30. \nConoce el orden del día AQUÍ
URL:https://www.corteconstitucional.gob.ec/event/sesion-ordinaria-del-pleno-nro-023-o-2023/
CATEGORIES:Sesiones del Pleno
END:VEVENT
BEGIN:VEVENT
DTSTART;TZID=America/Bogota:20230714T153000
DTEND;TZID=America/Bogota:20230714T163000
DTSTAMP:20260421T005934
CREATED:20230710T173358Z
LAST-MODIFIED:20230710T173358Z
UID:275077-1689348600-1689352200@www.corteconstitucional.gob.ec
SUMMARY:Tercer Tribunal de la Sala de Admisión
DESCRIPTION:Las juezas constitucionales Carmen Corral Ponce y Alejandra Cárdenas Reyes; y el juez constitucional Enrique Herrería Bonnet\, integrantes del Tercer Tribunal de la Sala de Admisión sesionarán el 14 de julio\, a partir de las 15h30. \n 
URL:https://www.corteconstitucional.gob.ec/event/tercer-tribunal-de-la-sala-de-admision-3/
CATEGORIES:Sesiones de Salas de Admisión, Selección y Revisión
END:VEVENT
BEGIN:VEVENT
DTSTART;TZID=America/Bogota:20230714T153000
DTEND;TZID=America/Bogota:20230714T163000
DTSTAMP:20260421T005934
CREATED:20230710T173358Z
LAST-MODIFIED:20230710T173358Z
UID:266635-1689348600-1689352200@www.corteconstitucional.gob.ec
SUMMARY:Tercer Tribunal de la Sala de Admisión
DESCRIPTION:Las juezas constitucionales Carmen Corral Ponce y Alejandra Cárdenas Reyes; y el juez constitucional Enrique Herrería Bonnet\, integrantes del Tercer Tribunal de la Sala de Admisión sesionarán el 14 de julio\, a partir de las 15h30. \n 
URL:https://www.corteconstitucional.gob.ec/event/tercer-tribunal-de-la-sala-de-admision/
CATEGORIES:Sesiones de Salas de Admisión, Selección y Revisión
END:VEVENT
BEGIN:VEVENT
DTSTART;TZID=America/Bogota:20230718T110000
DTEND;TZID=America/Bogota:20230718T170000
DTSTAMP:20260421T005934
CREATED:20230713T195714Z
LAST-MODIFIED:20230713T195756Z
UID:266683-1689678000-1689699600@www.corteconstitucional.gob.ec
SUMMARY:Audiencia Pública Caso Nro. 3-23-UE
DESCRIPTION:El juez sustanciador Enrique Herrería Bonnet convoca a las partes procesales\, a los amicus curiae y a los terceros interesados a la Audiencia Pública del Caso Nro. 3-23-UE. \nConoce los detalles en la convocatoria AQUÍ
URL:https://www.corteconstitucional.gob.ec/event/audiencia-publica-caso-nro-3-23-ue/
CATEGORIES:Audiencias Públicas
END:VEVENT
BEGIN:VEVENT
DTSTART;TZID=America/Bogota:20230718T110000
DTEND;TZID=America/Bogota:20230718T170000
DTSTAMP:20260421T005934
CREATED:20230713T195714Z
LAST-MODIFIED:20230713T195714Z
UID:275079-1689678000-1689699600@www.corteconstitucional.gob.ec
SUMMARY:Audiencia Pública Caso Nro. 3-23-UE
DESCRIPTION:El juez sustanciador Enrique Herrería Bonnet convoca a las partes procesales\, a los amicus curiae y a los terceros interesados a la Audiencia Pública del Caso Nro. 3-23-UE. \nConoce los detalles en la convocatoria AQUÍ
URL:https://www.corteconstitucional.gob.ec/event/audiencia-publica-caso-nro-3-23-ue-2/
CATEGORIES:Audiencias Públicas
END:VEVENT
BEGIN:VEVENT
DTSTART;TZID=America/Bogota:20230719T113000
DTEND;TZID=America/Bogota:20230719T163000
DTSTAMP:20260421T005934
CREATED:20230718T222037Z
LAST-MODIFIED:20230718T222037Z
UID:266709-1689766200-1689784200@www.corteconstitucional.gob.ec
SUMMARY:Sesión ordinaria del Pleno Nro. 024-O-2023
DESCRIPTION:Las juezas y jueces constitucionales que conforman el Pleno de la Corte Constitucional realizarán este miércoles 19 de julio del 2023\, la Sesión Ordinaria Nro. 024-O-2023\, a partir de las 11h30. \nConoce el orden del día AQUÍ
URL:https://www.corteconstitucional.gob.ec/event/sesion-ordinaria-del-pleno-nro-024-o-2023/
CATEGORIES:Sesiones del Pleno
END:VEVENT
BEGIN:VEVENT
DTSTART;TZID=America/Bogota:20230719T113000
DTEND;TZID=America/Bogota:20230719T163000
DTSTAMP:20260421T005934
CREATED:20230718T222037Z
LAST-MODIFIED:20230718T222037Z
UID:275081-1689766200-1689784200@www.corteconstitucional.gob.ec
SUMMARY:Sesión ordinaria del Pleno Nro. 024-O-2023
DESCRIPTION:Las juezas y jueces constitucionales que conforman el Pleno de la Corte Constitucional realizarán este miércoles 19 de julio del 2023\, la Sesión Ordinaria Nro. 024-O-2023\, a partir de las 11h30. \nConoce el orden del día AQUÍ
URL:https://www.corteconstitucional.gob.ec/event/sesion-ordinaria-del-pleno-nro-024-o-2023-2/
CATEGORIES:Sesiones del Pleno
END:VEVENT
BEGIN:VEVENT
DTSTART;TZID=America/Bogota:20230720T103000
DTEND;TZID=America/Bogota:20230720T170000
DTSTAMP:20260421T005934
CREATED:20230714T223231Z
LAST-MODIFIED:20230714T223231Z
UID:275080-1689849000-1689872400@www.corteconstitucional.gob.ec
SUMMARY:Audiencia Pública Caso 4-23-UE
DESCRIPTION:La jueza sustanciadora Daniela Salazar Marín convoca a las partes procesales y a los amicus curiae a la Audiencia Pública del Caso Nro. 4-23-UE. \nConoce los detalles en el orden del día AQUÍ
URL:https://www.corteconstitucional.gob.ec/event/audiencia-publica-caso-4-23-ue-2/
CATEGORIES:Audiencias Públicas
END:VEVENT
BEGIN:VEVENT
DTSTART;TZID=America/Bogota:20230720T103000
DTEND;TZID=America/Bogota:20230720T170000
DTSTAMP:20260421T005934
CREATED:20230714T223231Z
LAST-MODIFIED:20230714T223231Z
UID:266687-1689849000-1689872400@www.corteconstitucional.gob.ec
SUMMARY:Audiencia Pública Caso 4-23-UE
DESCRIPTION:La jueza sustanciadora Daniela Salazar Marín convoca a las partes procesales y a los amicus curiae a la Audiencia Pública del Caso Nro. 4-23-UE. \nConoce los detalles en el orden del día AQUÍ
URL:https://www.corteconstitucional.gob.ec/event/audiencia-publica-caso-4-23-ue/
CATEGORIES:Audiencias Públicas
END:VEVENT
BEGIN:VEVENT
DTSTART;TZID=America/Bogota:20230720T160000
DTEND;TZID=America/Bogota:20230720T173000
DTSTAMP:20260421T005934
CREATED:20230719T133338Z
LAST-MODIFIED:20230719T133338Z
UID:275082-1689868800-1689874200@www.corteconstitucional.gob.ec
SUMMARY:Primer Tribunal de la Sala de Admisión
DESCRIPTION:Los jueces constitucionales Alí Lozada Prado\, Jhoel Escudero Soliz y Richard Ortiz Ortiz\, integrantes del Primer Tribunal de la Sala de Admisión\, sesionarán el 20 de julio. \n 
URL:https://www.corteconstitucional.gob.ec/event/primer-tribunal-de-la-sala-de-admision-4/
CATEGORIES:Sesiones de Salas de Admisión, Selección y Revisión
END:VEVENT
BEGIN:VEVENT
DTSTART;TZID=America/Bogota:20230720T160000
DTEND;TZID=America/Bogota:20230720T173000
DTSTAMP:20260421T005934
CREATED:20230719T133338Z
LAST-MODIFIED:20230719T133614Z
UID:266722-1689868800-1689874200@www.corteconstitucional.gob.ec
SUMMARY:Primer Tribunal de la Sala de Admisión
DESCRIPTION:Los jueces constitucionales Alí Lozada Prado\, Jhoel Escudero Soliz y Richard Ortiz Ortiz\, integrantes del Primer Tribunal de la Sala de Admisión\, sesionarán el 20 de julio. \n 
URL:https://www.corteconstitucional.gob.ec/event/primer-tribunal-de-la-sala-de-admision/
CATEGORIES:Sesiones de Salas de Admisión, Selección y Revisión
END:VEVENT
BEGIN:VEVENT
DTSTART;TZID=America/Bogota:20230721T100000
DTEND;TZID=America/Bogota:20230721T110000
DTSTAMP:20260421T005934
CREATED:20230721T221922Z
LAST-MODIFIED:20230721T221922Z
UID:275084-1689933600-1689937200@www.corteconstitucional.gob.ec
SUMMARY:Primera Sala de Selección
DESCRIPTION:Las juezas constitucionales Karla Andrade Quevedo y Alejandra Cárdenas Reyes; y\, los jueces constitucionales Enrique Herrería Bonnet y Richard Ortiz Ortiz\, integrantes de la Primera Sala de Selección sesionarán hoy a partir de las 10h00.
URL:https://www.corteconstitucional.gob.ec/event/primera-sala-de-seleccion-2/
CATEGORIES:Sesiones de Salas de Admisión, Selección y Revisión
END:VEVENT
BEGIN:VEVENT
DTSTART;TZID=America/Bogota:20230721T100000
DTEND;TZID=America/Bogota:20230721T110000
DTSTAMP:20260421T005934
CREATED:20230721T221922Z
LAST-MODIFIED:20230721T221922Z
UID:266745-1689933600-1689937200@www.corteconstitucional.gob.ec
SUMMARY:Primera Sala de Selección
DESCRIPTION:Las juezas constitucionales Karla Andrade Quevedo y Alejandra Cárdenas Reyes; y\, los jueces constitucionales Enrique Herrería Bonnet y Richard Ortiz Ortiz\, integrantes de la Primera Sala de Selección sesionarán hoy a partir de las 10h00.
URL:https://www.corteconstitucional.gob.ec/event/primera-sala-de-seleccion/
CATEGORIES:Sesiones de Salas de Admisión, Selección y Revisión
END:VEVENT
BEGIN:VEVENT
DTSTART;TZID=America/Bogota:20230721T100000
DTEND;TZID=America/Bogota:20230721T113000
DTSTAMP:20260421T005934
CREATED:20230720T131753Z
LAST-MODIFIED:20230720T131753Z
UID:266737-1689933600-1689939000@www.corteconstitucional.gob.ec
SUMMARY:Segundo Tribunal de Sala de Admisión
DESCRIPTION:Las juezas constitucionales Karla Andrade Quevedo\, Teresa Nuques Martínez y Daniela Salazar Marín\, integrantes del Segundo Tribunal de Sala de Admisión\, sesionarán este viernes 21 de julio.
URL:https://www.corteconstitucional.gob.ec/event/segundo-tribunal-de-sala-de-admision-2/
CATEGORIES:Sesiones de Salas de Admisión, Selección y Revisión
END:VEVENT
BEGIN:VEVENT
DTSTART;TZID=America/Bogota:20230721T100000
DTEND;TZID=America/Bogota:20230721T113000
DTSTAMP:20260421T005934
CREATED:20230720T131753Z
LAST-MODIFIED:20230720T131753Z
UID:275083-1689933600-1689939000@www.corteconstitucional.gob.ec
SUMMARY:Segundo Tribunal de Sala de Admisión
DESCRIPTION:Las juezas constitucionales Karla Andrade Quevedo\, Teresa Nuques Martínez y Daniela Salazar Marín\, integrantes del Segundo Tribunal de Sala de Admisión\, sesionarán este viernes 21 de julio.
URL:https://www.corteconstitucional.gob.ec/event/segundo-tribunal-de-sala-de-admision-2-2/
CATEGORIES:Sesiones de Salas de Admisión, Selección y Revisión
END:VEVENT
BEGIN:VEVENT
DTSTART;TZID=America/Bogota:20230724T101500
DTEND;TZID=America/Bogota:20230724T113000
DTSTAMP:20260421T005934
CREATED:20230721T232545Z
LAST-MODIFIED:20230721T232545Z
UID:266771-1690193700-1690198200@www.corteconstitucional.gob.ec
SUMMARY:Sesión extraordinaria administrativa Nro. 015-E-2023
DESCRIPTION:Las juezas y jueces constitucionales que conforman el Pleno de la Corte Constitucional realizarán la Sesión extraordinaria administrativa Nro. 015-E-2023. \nConoce el orden del día AQUÍ \nSigue la sesión en vivo por YouTube AQUÍ
URL:https://www.corteconstitucional.gob.ec/event/sesion-extraordinaria-administrativa-nro-015-e-2023/
CATEGORIES:Sesiones del Pleno
END:VEVENT
BEGIN:VEVENT
DTSTART;TZID=America/Bogota:20230724T101500
DTEND;TZID=America/Bogota:20230724T113000
DTSTAMP:20260421T005934
CREATED:20230721T232545Z
LAST-MODIFIED:20230721T232545Z
UID:275085-1690193700-1690198200@www.corteconstitucional.gob.ec
SUMMARY:Sesión extraordinaria administrativa Nro. 015-E-2023
DESCRIPTION:Las juezas y jueces constitucionales que conforman el Pleno de la Corte Constitucional realizarán la Sesión extraordinaria administrativa Nro. 015-E-2023. \nConoce el orden del día AQUÍ \nSigue la sesión en vivo por YouTube AQUÍ
URL:https://www.corteconstitucional.gob.ec/event/sesion-extraordinaria-administrativa-nro-015-e-2023-2/
CATEGORIES:Sesiones del Pleno
END:VEVENT
BEGIN:VEVENT
DTSTART;TZID=America/Bogota:20230728T100000
DTEND;TZID=America/Bogota:20230728T113000
DTSTAMP:20260421T005934
CREATED:20230815T203608Z
LAST-MODIFIED:20230815T203608Z
UID:267031-1690538400-1690543800@www.corteconstitucional.gob.ec
SUMMARY:Sesión jurisdiccional extraordinaria 016-E-2023
DESCRIPTION:Las juezas y jueces constitucionales que conforman el Pleno de la Corte Constitucional sesionarán el 28 de julio del 2023. \nVer orden del día AQUÍ
URL:https://www.corteconstitucional.gob.ec/event/sesion-jurisdiccional-extraordinaria-016-e-2023/
CATEGORIES:Sesiones del Pleno
END:VEVENT
BEGIN:VEVENT
DTSTART;TZID=America/Bogota:20230728T100000
DTEND;TZID=America/Bogota:20230728T113000
DTSTAMP:20260421T005934
CREATED:20230815T203608Z
LAST-MODIFIED:20230815T203608Z
UID:275098-1690538400-1690543800@www.corteconstitucional.gob.ec
SUMMARY:Sesión jurisdiccional extraordinaria 016-E-2023
DESCRIPTION:Las juezas y jueces constitucionales que conforman el Pleno de la Corte Constitucional sesionarán el 28 de julio del 2023. \nVer orden del día AQUÍ
URL:https://www.corteconstitucional.gob.ec/event/sesion-jurisdiccional-extraordinaria-016-e-2023-2/
CATEGORIES:Sesiones del Pleno
END:VEVENT
BEGIN:VEVENT
DTSTART;TZID=America/Bogota:20230731T120000
DTEND;TZID=America/Bogota:20230731T133000
DTSTAMP:20260421T005934
CREATED:20230728T023912Z
LAST-MODIFIED:20230728T023912Z
UID:275086-1690804800-1690810200@www.corteconstitucional.gob.ec
SUMMARY:Tercer Tribunal de la Sala de Admisión
DESCRIPTION:Las juezas constitucionales Karla Andrade Quevedo y Alejandra Cárdenas Reyes; y\, el juez constitucional Richard Ortiz Ortiz\, integrantes del Tercer Tribunal de Sala de Admisión\, sesionarán el lunes 31 de julio del 2023.
URL:https://www.corteconstitucional.gob.ec/event/tercer-tribunal-de-la-sala-de-admision-2-2/
CATEGORIES:Sesiones de Salas de Admisión, Selección y Revisión
END:VEVENT
BEGIN:VEVENT
DTSTART;TZID=America/Bogota:20230731T120000
DTEND;TZID=America/Bogota:20230731T133000
DTSTAMP:20260421T005934
CREATED:20230728T023912Z
LAST-MODIFIED:20230728T023912Z
UID:266817-1690804800-1690810200@www.corteconstitucional.gob.ec
SUMMARY:Tercer Tribunal de la Sala de Admisión
DESCRIPTION:Las juezas constitucionales Karla Andrade Quevedo y Alejandra Cárdenas Reyes; y\, el juez constitucional Richard Ortiz Ortiz\, integrantes del Tercer Tribunal de Sala de Admisión\, sesionarán el lunes 31 de julio del 2023.
URL:https://www.corteconstitucional.gob.ec/event/tercer-tribunal-de-la-sala-de-admision-2/
CATEGORIES:Sesiones de Salas de Admisión, Selección y Revisión
END:VEVENT
END:VCALENDAR