BEGIN:VCALENDAR
VERSION:2.0
PRODID:-//Corte Constitucional del Ecuador - ECPv6.10.2//NONSGML v1.0//EN
CALSCALE:GREGORIAN
METHOD:PUBLISH
X-ORIGINAL-URL:https://www.corteconstitucional.gob.ec
X-WR-CALDESC:Eventos para Corte Constitucional del Ecuador
REFRESH-INTERVAL;VALUE=DURATION:PT1H
X-Robots-Tag:noindex
X-PUBLISHED-TTL:PT1H
BEGIN:VTIMEZONE
TZID:America/Bogota
BEGIN:STANDARD
TZOFFSETFROM:-0500
TZOFFSETTO:-0500
TZNAME:-05
DTSTART:20230101T000000
END:STANDARD
END:VTIMEZONE
BEGIN:VEVENT
DTSTART;TZID=America/Bogota:20230412T113000
DTEND;TZID=America/Bogota:20230412T163000
DTSTAMP:20260421T043855
CREATED:20230410T210510Z
LAST-MODIFIED:20230410T210510Z
UID:275029-1681299000-1681317000@www.corteconstitucional.gob.ec
SUMMARY:Sesión Ordinaria del Pleno Nro. 010-O-2023
DESCRIPTION:Las juezas y jueces que conforman el Pleno de la Corte Constitucional realizarán la Sesión Ordinaria del Pleno Nro. 010-O-2023. \nAccede al orden del día AQUÍ
URL:https://www.corteconstitucional.gob.ec/event/sesion-ordinaria-del-pleno-nro-010-o-2023-2/
CATEGORIES:Sesiones del Pleno
END:VEVENT
BEGIN:VEVENT
DTSTART;TZID=America/Bogota:20230412T113000
DTEND;TZID=America/Bogota:20230412T163000
DTSTAMP:20260421T043855
CREATED:20230410T210510Z
LAST-MODIFIED:20230410T210905Z
UID:265772-1681299000-1681317000@www.corteconstitucional.gob.ec
SUMMARY:Sesión Ordinaria del Pleno Nro. 010-O-2023
DESCRIPTION:Las juezas y jueces que conforman el Pleno de la Corte Constitucional realizarán la Sesión Ordinaria del Pleno Nro. 010-O-2023. \nAccede al orden del día AQUÍ
URL:https://www.corteconstitucional.gob.ec/event/sesion-ordinaria-del-pleno-nro-010-o-2023/
CATEGORIES:Sesiones del Pleno
END:VEVENT
BEGIN:VEVENT
DTSTART;TZID=America/Bogota:20230414T100000
DTEND;TZID=America/Bogota:20230414T133000
DTSTAMP:20260421T043855
CREATED:20230410T164019Z
LAST-MODIFIED:20230410T210833Z
UID:265733-1681466400-1681479000@www.corteconstitucional.gob.ec
SUMMARY:Audiencia Pública Caso Nro. 57-17-IN
DESCRIPTION:El juez sustanciador Enrique Herrería Bonnet convoca a las partes procesales\, a los amicus curiae y a los terceros interesados a la Audiencia Pública del Caso Nro. 57-17-IN. \nAccede a la convocatoria AQUÍ
URL:https://www.corteconstitucional.gob.ec/event/audiencia-publica-caso-nro-57-17-in/
CATEGORIES:Audiencias Públicas
END:VEVENT
BEGIN:VEVENT
DTSTART;TZID=America/Bogota:20230414T100000
DTEND;TZID=America/Bogota:20230414T133000
DTSTAMP:20260421T043855
CREATED:20230410T164019Z
LAST-MODIFIED:20230410T164019Z
UID:275028-1681466400-1681479000@www.corteconstitucional.gob.ec
SUMMARY:Audiencia Pública Caso Nro. 57-17-IN
DESCRIPTION:El juez sustanciador Enrique Herrería Bonnet convoca a las partes procesales\, a los amicus curiae y a los terceros interesados a la Audiencia Pública del Caso Nro. 57-17-IN. \nAccede a la convocatoria AQUÍ
URL:https://www.corteconstitucional.gob.ec/event/audiencia-publica-caso-nro-57-17-in-2/
CATEGORIES:Audiencias Públicas
END:VEVENT
BEGIN:VEVENT
DTSTART;TZID=America/Bogota:20230418T100000
DTEND;TZID=America/Bogota:20230418T130000
DTSTAMP:20260421T043855
CREATED:20230413T213755Z
LAST-MODIFIED:20230413T213755Z
UID:275030-1681812000-1681822800@www.corteconstitucional.gob.ec
SUMMARY:Audiencia Pública Caso Nro. 6-22-CP
DESCRIPTION:Jueza sustanciadora Carmen Corral Ponce \nAccede a la convocatoria AQUÍ
URL:https://www.corteconstitucional.gob.ec/event/audiencia-publica-caso-nro-6-22-cp-2/
CATEGORIES:Audiencias Públicas
END:VEVENT
BEGIN:VEVENT
DTSTART;TZID=America/Bogota:20230418T100000
DTEND;TZID=America/Bogota:20230418T130000
DTSTAMP:20260421T043855
CREATED:20230413T213755Z
LAST-MODIFIED:20230413T214000Z
UID:265813-1681812000-1681822800@www.corteconstitucional.gob.ec
SUMMARY:Audiencia Pública Caso Nro. 6-22-CP
DESCRIPTION:Jueza sustanciadora Carmen Corral Ponce \nAccede a la convocatoria AQUÍ
URL:https://www.corteconstitucional.gob.ec/event/audiencia-publica-caso-nro-6-22-cp/
CATEGORIES:Audiencias Públicas
END:VEVENT
BEGIN:VEVENT
DTSTART;TZID=America/Bogota:20230419T130000
DTEND;TZID=America/Bogota:20230419T173000
DTSTAMP:20260421T043855
CREATED:20230417T184908Z
LAST-MODIFIED:20230417T184908Z
UID:275031-1681909200-1681925400@www.corteconstitucional.gob.ec
SUMMARY:Sesión Ordinaria del Pleno Nro. 011-O-2023
DESCRIPTION:Juezas y jueces que conforman el Pleno de la Corte Constitucional \nConoce el orden del día AQUÍ
URL:https://www.corteconstitucional.gob.ec/event/sesion-ordinaria-del-pleno-nro-011-o-2023-2/
CATEGORIES:Sesiones del Pleno
END:VEVENT
BEGIN:VEVENT
DTSTART;TZID=America/Bogota:20230419T130000
DTEND;TZID=America/Bogota:20230419T173000
DTSTAMP:20260421T043855
CREATED:20230417T184908Z
LAST-MODIFIED:20230417T184908Z
UID:265826-1681909200-1681925400@www.corteconstitucional.gob.ec
SUMMARY:Sesión Ordinaria del Pleno Nro. 011-O-2023
DESCRIPTION:Juezas y jueces que conforman el Pleno de la Corte Constitucional \nConoce el orden del día AQUÍ
URL:https://www.corteconstitucional.gob.ec/event/sesion-ordinaria-del-pleno-nro-011-o-2023/
CATEGORIES:Sesiones del Pleno
END:VEVENT
BEGIN:VEVENT
DTSTART;TZID=America/Bogota:20230421T113000
DTEND;TZID=America/Bogota:20230421T163000
DTSTAMP:20260421T043855
CREATED:20230421T163814Z
LAST-MODIFIED:20230421T163814Z
UID:275034-1682076600-1682094600@www.corteconstitucional.gob.ec
SUMMARY:Sesión Extraordinaria del Pleno Nro. 009-E-2023
DESCRIPTION:Conoce el orden del día AQUÍ
URL:https://www.corteconstitucional.gob.ec/event/orden-del-dia-nro-009-e-2023-2/
CATEGORIES:Sesiones del Pleno
END:VEVENT
BEGIN:VEVENT
DTSTART;TZID=America/Bogota:20230421T113000
DTEND;TZID=America/Bogota:20230421T163000
DTSTAMP:20260421T043855
CREATED:20230421T163814Z
LAST-MODIFIED:20230421T163857Z
UID:265897-1682076600-1682094600@www.corteconstitucional.gob.ec
SUMMARY:Sesión Extraordinaria del Pleno Nro. 009-E-2023
DESCRIPTION:Conoce el orden del día AQUÍ
URL:https://www.corteconstitucional.gob.ec/event/orden-del-dia-nro-009-e-2023/
CATEGORIES:Sesiones del Pleno
END:VEVENT
BEGIN:VEVENT
DTSTART;TZID=America/Bogota:20230426T113000
DTEND;TZID=America/Bogota:20230426T170000
DTSTAMP:20260421T043855
CREATED:20230424T212501Z
LAST-MODIFIED:20230424T212501Z
UID:275035-1682508600-1682528400@www.corteconstitucional.gob.ec
SUMMARY:Sesión Ordinaria del Pleno Nro. 012-O-2023
DESCRIPTION:Juezas y jueces que conforman el Pleno de la Corte Constitucional. \nConoce el orden del día AQUÍ
URL:https://www.corteconstitucional.gob.ec/event/sesion-ordinaria-del-pleno-nro-012-o-2023-2/
CATEGORIES:Sesiones del Pleno
END:VEVENT
BEGIN:VEVENT
DTSTART;TZID=America/Bogota:20230426T113000
DTEND;TZID=America/Bogota:20230426T170000
DTSTAMP:20260421T043855
CREATED:20230424T212501Z
LAST-MODIFIED:20230424T212501Z
UID:265940-1682508600-1682528400@www.corteconstitucional.gob.ec
SUMMARY:Sesión Ordinaria del Pleno Nro. 012-O-2023
DESCRIPTION:Juezas y jueces que conforman el Pleno de la Corte Constitucional. \nConoce el orden del día AQUÍ
URL:https://www.corteconstitucional.gob.ec/event/sesion-ordinaria-del-pleno-nro-012-o-2023/
CATEGORIES:Sesiones del Pleno
END:VEVENT
END:VCALENDAR