BEGIN:VCALENDAR
VERSION:2.0
PRODID:-//Corte Constitucional del Ecuador - ECPv6.10.2//NONSGML v1.0//EN
CALSCALE:GREGORIAN
METHOD:PUBLISH
X-ORIGINAL-URL:https://www.corteconstitucional.gob.ec
X-WR-CALDESC:Eventos para Corte Constitucional del Ecuador
REFRESH-INTERVAL;VALUE=DURATION:PT1H
X-Robots-Tag:noindex
X-PUBLISHED-TTL:PT1H
BEGIN:VTIMEZONE
TZID:America/Bogota
BEGIN:STANDARD
TZOFFSETFROM:-0500
TZOFFSETTO:-0500
TZNAME:-05
DTSTART:20250101T000000
END:STANDARD
END:VTIMEZONE
BEGIN:VEVENT
DTSTART;TZID=America/Bogota:20251112T100000
DTEND;TZID=America/Bogota:20251112T133000
DTSTAMP:20260419T103149
CREATED:20251111T140058Z
LAST-MODIFIED:20251111T140058Z
UID:278383-1762941600-1762954200@www.corteconstitucional.gob.ec
SUMMARY:Audiencia pública telemática del Caso 4398-23-JP
DESCRIPTION:La jueza sustanciadora Claudia Salgado Levy presidirá la audiencia pública telemática del Caso 4398-23-JP. \nConoce más AQUÍ
URL:https://www.corteconstitucional.gob.ec/event/audiencia-publica-telematica-del-caso-4398-23-jp/
CATEGORIES:Audiencias Públicas
END:VEVENT
BEGIN:VEVENT
DTSTART;TZID=America/Bogota:20251112T100000
DTEND;TZID=America/Bogota:20251112T163000
DTSTAMP:20260419T103149
CREATED:20251111T212841Z
LAST-MODIFIED:20251111T212841Z
UID:278399-1762941600-1762965000@www.corteconstitucional.gob.ec
SUMMARY:Segunda Sala de Revisión (12-11-2025)
DESCRIPTION:Los jueces constitucionales Jhoel Escudero Soliz\, Jorge Benavides Ordóñez y Alí Lozada Prado\, integrantes del Tercer Tribunal de Sala de Admisión\, sesionarán el 12 de noviembre del 2025\, a partir de las 10h00.
URL:https://www.corteconstitucional.gob.ec/event/segunda-sala-de-revision-12-11-2025/
CATEGORIES:Sesiones de Salas de Admisión, Selección y Revisión
END:VEVENT
END:VCALENDAR