BEGIN:VCALENDAR
VERSION:2.0
PRODID:-//Corte Constitucional del Ecuador - ECPv6.10.2//NONSGML v1.0//EN
CALSCALE:GREGORIAN
METHOD:PUBLISH
X-WR-CALNAME:Corte Constitucional del Ecuador
X-ORIGINAL-URL:https://www.corteconstitucional.gob.ec
X-WR-CALDESC:Eventos para Corte Constitucional del Ecuador
REFRESH-INTERVAL;VALUE=DURATION:PT1H
X-Robots-Tag:noindex
X-PUBLISHED-TTL:PT1H
BEGIN:VTIMEZONE
TZID:America/Bogota
BEGIN:STANDARD
TZOFFSETFROM:-0500
TZOFFSETTO:-0500
TZNAME:-05
DTSTART:20250101T000000
END:STANDARD
END:VTIMEZONE
BEGIN:VEVENT
DTSTART;TZID=America/Bogota:20251111T093000
DTEND;TZID=America/Bogota:20251111T163000
DTSTAMP:20260419T103135
CREATED:20251107T145727Z
LAST-MODIFIED:20251107T171954Z
UID:278365-1762853400-1762878600@www.corteconstitucional.gob.ec
SUMMARY:Primer Tribunal de Sala de Admisión (11/11/2025)
DESCRIPTION:Las juezas constitucionales Karla Andrade Quevedo y Claudia Salgado Levy; y el juez constitucional Jhoel Escudero Soliz\, integrantes del Primer Tribunal de la Sala de Admisión\, sesionarán el 11 de noviembre del 2025\, a partir de las 09h30.
URL:https://www.corteconstitucional.gob.ec/event/primer-tribunal-de-sala-de-admision-11-11-2025/
CATEGORIES:Sesiones de Salas de Admisión, Selección y Revisión
END:VEVENT
END:VCALENDAR