BEGIN:VCALENDAR
VERSION:2.0
PRODID:-//Corte Constitucional del Ecuador - ECPv6.10.2//NONSGML v1.0//EN
CALSCALE:GREGORIAN
METHOD:PUBLISH
X-WR-CALNAME:Corte Constitucional del Ecuador
X-ORIGINAL-URL:https://www.corteconstitucional.gob.ec
X-WR-CALDESC:Eventos para Corte Constitucional del Ecuador
REFRESH-INTERVAL;VALUE=DURATION:PT1H
X-Robots-Tag:noindex
X-PUBLISHED-TTL:PT1H
BEGIN:VTIMEZONE
TZID:America/Bogota
BEGIN:STANDARD
TZOFFSETFROM:-0500
TZOFFSETTO:-0500
TZNAME:-05
DTSTART:20250101T000000
END:STANDARD
END:VTIMEZONE
BEGIN:VEVENT
DTSTART;TZID=America/Bogota:20251105T100000
DTEND;TZID=America/Bogota:20251105T133000
DTSTAMP:20260419T103042
CREATED:20251030T205300Z
LAST-MODIFIED:20251105T205421Z
UID:278330-1762336800-1762349400@www.corteconstitucional.gob.ec
SUMMARY:Audiencia pública telemática del Caso 253-24-JP
DESCRIPTION:El juez sustanciador José Luis Terán Suárez presidirá la audiencia pública telemática del Caso 253-24-JP. \nConoce más AQUÍ 
URL:https://www.corteconstitucional.gob.ec/event/audiencia-publica-telematica-del-caso-253-24-jp-2/
CATEGORIES:Audiencias Públicas
END:VEVENT
END:VCALENDAR